BEGIN:VCALENDAR
VERSION:2.0
PRODID:-//Vital Japan - ECPv6.11.2//NONSGML v1.0//EN
CALSCALE:GREGORIAN
METHOD:PUBLISH
X-ORIGINAL-URL:https://vitaljapan.com
X-WR-CALDESC:Vital Japan のイベント
REFRESH-INTERVAL;VALUE=DURATION:PT1H
X-Robots-Tag:noindex
X-PUBLISHED-TTL:PT1H
BEGIN:VTIMEZONE
TZID:Asia/Tokyo
BEGIN:STANDARD
TZOFFSETFROM:+0900
TZOFFSETTO:+0900
TZNAME:JST
DTSTART:20170101T000000
END:STANDARD
END:VTIMEZONE
BEGIN:VEVENT
DTSTART;TZID=Asia/Tokyo:20170305T140000
DTEND;TZID=Asia/Tokyo:20170305T164500
DTSTAMP:20260419T230250
CREATED:20170201T013905Z
LAST-MODIFIED:20170201T014157Z
UID:503-1488722400-1488732300@vitaljapan.com
SUMMARY:3/5(日) Vital English-英語勉強会◆「日本文化を英語で魅力的に説明しよう！」
DESCRIPTION:Vital English – 英語勉強会    2017年3月5日(日)  2:00-4:45pm　 【飯田橋】 \n【コミュニケーション編】[中級レベル] \n◆テーマ「日本文化を英語で魅力的に説明しよう！」\n\n\n\n◆日時：2017年3月5日（日）\n勉強会: 2:00-4:45pm （開場：1:40pm） 　終了後、午後5時より懇親会 \n◆会場：東京しごとセンター B2F 講堂\n東京都千代田区飯田橋 3-10-3\n◆交通：飯田橋駅より徒歩7分、九段下駅より徒歩10分 \n◆参加費：1\,000円\n◆定員：200人 \n◆参加申込フォーム　受付中！ \n※Vital English-英語勉強会 イベント案内のメルマガはこちらから \n◆Speakers:\nKing Chu\, Finance & I.T. Professional（American from Hawaii)\n小田 康之\, Vital Japan 代表兼オーガナイザー \n  \n「日本を説明するための英語」”Explaining All Things Japanese”シリーズ。\nいつも熱いご要望をいただく、人気セッション。久々の開催です。 \n英語で、日本の文化についてうまく説明する技術を磨きます。外国人と接していて必ず直面する日本に関する説明。\n日本文化、日本に固有なもの・習慣などを説明できるようにトレーニング。単に説明をするだけではなく、いかに魅力的に話せるかについても考えます。 \n実際に外国人が出会う日常やビジネスでの日本的な場面を、どう英語で説明するのかもアクティビティーとして行います。 \nさらにはどのような会話をすれば盛り上がるのか、相互理解を深め仲良くなるにはどうれすれば良いかなど、会話表現やテクニックをトレーニング。\n英語表現やボキャブラリーをご紹介し、ダイアログのロールプレイングや自由な会話を通じて表現力を高めてゆきます。 \nセッションは、スピーカーからの表現や技術の紹介、1対1でのトレーニング、グループでの自由なディスカッションから構成。 \nプレゼンは主に米国人のKingが英語で行い、小田が日本語にて進行と補足説明をします。 \n【内容】（予定）\n– Words and expressions used in explaining and/or describing things\n– Describe aspects of culture and concepts that are uniquely Japanese\n– Words and expressions which enhances and elevates the appeal\nand attractiveness of descriptions\n– Describing different scenes in Japan\n– Japanese words we have difficulty explaining in English \n【流れ】（予定）\n・Icebreaking （１対１の自己紹介 x ３回 でウォームアップ）\n・テクニック、英語表現の講義\n・ダイアログのロールプレイ　（テクニック・英語表現を実践）\n・テーマに基づく自由な会話　（沢山会話しよう！）\n[休憩]   休憩後 席替え・新たなグループで後半！\n・テクニック、英語表現の講義\n・ダイアログのロールプレイ　（テクニック・英語表現を実践）\n・テーマに基づく自由な会話　（沢山会話しよう！）\n・Let’s make friends! (本日学んだことを振り返り実践しよう！） \n 
URL:https://vitaljapan.com/event/20170305-vital-english/
LOCATION:飯田橋 – Iidabashi (Tokyo Shigoto Center)\, 飯田橋3-10-3\, 千代田区\, Tokyo\, 102-0072\, Japan
CATEGORIES:Vital English - 英語勉強会
ATTACH;FMTTYPE=image/jpeg:https://vitaljapan.com/vj/wp-content/uploads/2017/02/201612VitalEnglish6.jpg
END:VEVENT
BEGIN:VEVENT
DTSTART;TZID=Asia/Tokyo:20170311T140000
DTEND;TZID=Asia/Tokyo:20170311T171500
DTSTAMP:20260419T230250
CREATED:20170207T085546Z
LAST-MODIFIED:20170207T085546Z
UID:511-1489240800-1489252500@vitaljapan.com
SUMMARY:3/11(土)午後2時Vital English-英語勉強会【時事英語編】◆「大震災から6年。日本の今を英語で語ろう！- 日本の政治・経済・英語報道」
DESCRIPTION:Vital English – 英語勉強会    2017年3月11日(土)  2:00-5:15pm  【飯田橋】 \n【時事英語編】[中-上級レベル] \n◆テーマ「大震災から6年。日本の今を英語で語ろう！- 日本の政治・経済・英語報道」\n\n\n\n◆日時：2017年3月11日（土）\n勉強会: 2:00-5:15pm （開場：1:40pm） 　終了後、夜の勉強会まで自由な交流タイム \n◆会場：東京しごとセンター B2F 講堂\n東京都千代田区飯田橋 3-10-3\n◆交通：飯田橋駅より徒歩7分、九段下駅より徒歩10分 \n◆参加費：1\,000円\n◆定員：200人 \n◆Speaker:\n小田 康之\, Vital Japan 代表兼オーガナイザー\n King Chu\, Finance & I.T. Professional（from Hawaii) \n◆参加申込フォーム　受付中！\n\n※Vital English-英語勉強会 イベント案内のメルマガはこちらから \n◆レベルのご案内 \n東日本大震災から6年を迎えるこの日、改めて震災についての英語報道、今の日本の政治・経済について英語で語ってみましょう。 \n震災とその後がどう報道されたか、さらに今の日本の政治・経済の現状を世界がどう伝えているか、英語メディアをベースに確認。\nポイントなるキーワードや表現を学びながら、1対1やグループでディスカッションを繰り返してゆきます。 \n日本の政治・経済の基本的事項も確認。さらには現在起きていることの背景にも迫ってゆきます。 \n解説は日本語と英語を交えて行いますが、ディスカッション等のアクティビティーは英語で行います。 \n【内容】（予定）\n・東日本大震災とその後の日本を世界はどう伝えたか\n・今の日本の課題・争点は？\n・英語で対話、自由に語ろう！（1対1 ＆ グループ） \n【流れ】（予定）\n・Icebreaking （１対１の自己紹介 x ３回 でウォームアップ）\n・米国・英国メディアの記事・放送：読み方、内容のポイント、キーワード\n・1対1・グループでのディスカッション\n[休憩]   休憩後 席替え・新たなグループで後半！\n・米国・英国メディアの記事・放送：読み方、内容のポイント、キーワード\n・1対1・グループでのディスカッション\n・本日のテーマに基づくディスカッションを1対1で振り返り！
URL:https://vitaljapan.com/event/20170311-1-vital-english/
LOCATION:飯田橋 – Iidabashi (Tokyo Shigoto Center)\, 飯田橋3-10-3\, 千代田区\, Tokyo\, 102-0072\, Japan
CATEGORIES:Vital English - 英語勉強会
ATTACH;FMTTYPE=image/jpeg:https://vitaljapan.com/vj/wp-content/uploads/2015/12/VitalEnglish201611_oda2.jpg
END:VEVENT
BEGIN:VEVENT
DTSTART;TZID=Asia/Tokyo:20170311T180000
DTEND;TZID=Asia/Tokyo:20170311T211500
DTSTAMP:20260419T230250
CREATED:20170207T090649Z
LAST-MODIFIED:20170207T090745Z
UID:512-1489255200-1489266900@vitaljapan.com
SUMMARY:3/11(土)午後6時Vital English-英語勉強会【コミュニケーション編】◆「人を助けるための英語◇ボランティア、医療、etc」
DESCRIPTION:Vital English – 英語勉強会    2017年3月11日(土)  6:00-9:15pm 【飯田橋】 \n【コミュニケーション編】[中級レベル] \n◆テーマ「人を助けるための英語 － ボランティア、医療、etc」\n\n\n\n◆日時：2017年3月11日（土）\n勉強会: 6:00-9:15pm （開場：1:40pm） 　終了後、懇親会 \n◆会場：東京しごとセンター B2F 講堂\n東京都千代田区飯田橋 3-10-3\n◆交通：飯田橋駅より徒歩7分、九段下駅より徒歩10分 \n◆参加費：1\,000円\n◆定員：200人 \n◆参加申込フォーム　受付中！ \n※Vital English-英語勉強会 イベント案内のメルマガはこちらから \n◆Speakers:\nKing Chu\, Finance & I.T. Professional（American from Hawaii)\n小田 康之\, Vital Japan 代表兼オーガナイザー \n◆レベルのご案内 \n困っている人をどう英語で支援するか、ダイアログや自由な会話を通じてトレーニングします。\nロールプレイや自由な会話を通じて沢山英語で話しまくりましょう！ \nセッションは、スピーカーからの表現や技術の紹介、1対1およびグループでのトレーニング、さらにグループでの自由なトークから構成。 \nプレゼンは主にKingが英語で行い、小田が日本語で進行や補足説明をします。 \n【主な内容】（予定）\n– 医者と患者の会話（症状を伝える方法、効果的なコミュニケーションのための表現）、\n– 災害、怪我や病気の外国人との会話\n– ボランティアのための英語表現　等 \n【流れ】（予定）\n・Icebreaking （１対１の自己紹介 x ３回 でウォームアップ）\n・テクニック、英語表現の講義\n・ダイアログのロールプレイ　（テクニック・英語表現を実践）\n・テーマに基づく自由な会話　（沢山会話しよう！）\n[休憩]   休憩後 席替え・新たなグループで後半！\n・テクニック、英語表現の講義\n・ダイアログのロールプレイ　（テクニック・英語表現を実践）\n・テーマに基づく自由な会話　（沢山会話しよう！）\n・Let’s make friends! (本日学んだことを振り返り実践しよう！）
URL:https://vitaljapan.com/event/20170311-2-vital-english/
LOCATION:飯田橋 – Iidabashi (Tokyo Shigoto Center)\, 飯田橋3-10-3\, 千代田区\, Tokyo\, 102-0072\, Japan
CATEGORIES:Vital English - 英語勉強会
ATTACH;FMTTYPE=image/jpeg:https://vitaljapan.com/vj/wp-content/uploads/2017/02/VitalEnglish2016.jpg
END:VEVENT
BEGIN:VEVENT
DTSTART;TZID=Asia/Tokyo:20170318T140000
DTEND;TZID=Asia/Tokyo:20170318T171500
DTSTAMP:20260419T230250
CREATED:20170117T022917Z
LAST-MODIFIED:20170321T051842Z
UID:494-1489845600-1489857300@vitaljapan.com
SUMMARY:3/18(土)午後2時 Vital English-英語勉強会【ビジネス英語編】◆「ビジネスでのスモールトーク － 盛りあげる！打ち解ける！英語表現」
DESCRIPTION:Vital English – 英語勉強会    2017年3月18日(土)  2:00-5:15pm 【飯田橋】 \n【ビジネス英語編】[中-上級レベル] \n ◆テーマ「ビジネスでのスモールトーク － 盛りあげる！打ち解ける！英語表現」\n\n\n\n◆日時：2017年3月18日（土）\n勉強会: 2:00-5:15pm （開場：1:40pm） 　終了後、夜の勉強会まで自由な交流タイム \n◆会場：東京しごとセンター B2F 講堂\n東京都千代田区飯田橋 3-10-3\n◆交通：飯田橋駅より徒歩7分、九段下駅より徒歩10分 \n◆参加費：1\,000円\n◆定員：200人 \n◆Speakers:\nKing Chu\, Finance & I.T. Professional（American from Hawaii)\n小田 康之\, Vital Japan 代表兼オーガナイザー \n  \n◆参加申込フォーム　受付中！ \n※Vital English-英語勉強会 イベント案内のメルマガはこちらから \n◆レベルのご案内 \n  \n様々な話題を、巧みに話しができるようになるセッションです。\nますます新たな表現やテクニックをご紹介。一緒に楽しみましょう！ \nビジネス英語で難しいのは、実はスモールトーク、つまり本題に入る前や同僚と打ち解ける雑談です。\nミーティングの前、食事の席、オフィスなど、どんな会話で打ち解けるか、場を盛りあげるか、そのテクニックや英語表現を考え、トレーニングしてみましょう。 \nセッションは、スピーカーからの表現や技術の紹介、1対1でのトレーニング、グループでの自由なディスカッションから構成。 \nプレゼンは主にKingが英語で行い、小田が日本語で進行と補足説明をします。 \n【内容】（予定）\n– Initiating business small talk\n– Great topics and questions\n– Communication strategies \n【流れ】（予定）\n・Icebreaking （１対１の自己紹介 x ３回 でウォームアップ）\n・テクニック、英語表現の講義\n・ダイアログのロールプレイ　（テクニック・英語表現を実践）\n・テーマに基づく自由な会話　（沢山会話しよう！）\n[休憩]   休憩後 席替え・新たなグループで後半！\n・テクニック、英語表現の講義\n・ダイアログのロールプレイ　（テクニック・英語表現を実践）\n・テーマに基づく自由な会話　（沢山会話しよう！）\n・Let’s make friends! (本日学んだことを振り返り実践しよう！） \n 
URL:https://vitaljapan.com/event/20170318-1-vital-english/
LOCATION:飯田橋 – Iidabashi (Tokyo Shigoto Center)\, 飯田橋3-10-3\, 千代田区\, Tokyo\, 102-0072\, Japan
CATEGORIES:Vital English - 英語勉強会
ATTACH;FMTTYPE=image/jpeg:https://vitaljapan.com/vj/wp-content/uploads/2015/09/VitalEnglish_meeting1.jpg
END:VEVENT
BEGIN:VEVENT
DTSTART;TZID=Asia/Tokyo:20170318T180000
DTEND;TZID=Asia/Tokyo:20170318T211500
DTSTAMP:20260419T230250
CREATED:20170223T094303Z
LAST-MODIFIED:20170223T094303Z
UID:519-1489860000-1489871700@vitaljapan.com
SUMMARY:3/18(土)午後6時 Vital English-英語勉強会◆「英会話の筋力アップ・大トレーニング - ネイティブがよく使う表現」
DESCRIPTION:Vital English – 英語勉強会    2017年3月18日(土)  6:00-9:15pm 【飯田橋】 \n【コミュニケーション編】[中級レベル] \n◆テーマ「英会話の筋力アップ・大トレーニング – ネイティブがよく使う表現」\n\n\n\n◆日時：2017年3月18日（土）\n勉強会: 6:00-9:15pm （受付開始：5:40pm） 　終了後、居酒屋にて懇親会 \n◆会場：東京しごとセンター B2F 講堂\n東京都千代田区飯田橋 3-10-3\n◆交通：飯田橋駅より徒歩7分、九段下駅より徒歩10分 \n◆参加費：1\,000円\n◆定員：250人 \n◆参加申込フォーム　受付中！ \n※Vital English-英語勉強会 イベント案内のメルマガはこちらから \n◆Speakers:\nKing Chu\, Finance & I.T. Professional（American from Hawaii)\n小田 康之\, Vital Japan 代表兼オーガナイザー \n◆レベルのご案内\n日常の様々な場面を取り上げ、会話力や表現力の幅を広げます。\n初対面の人との社交の会話、訪日外国人との会話、オフィスでの同僚との会話など。 \nたくさん英語を話したい方、ネイティブらしい表現を学びたい方にお薦めのセッション。\nロールプレイのダイアログなども使いながらネイティブらしい英語表現を実践。\n英語での適切な会話表現が、瞬時に口からできるようにトレーニングをします。 \n好印象を与え、相手と親しくなるためのコミュニケーションテクニックも満載。さらにネイティブが使う表現を数多く紹介してゆきます。\n会話を始め、進め、広げてゆくには、どのような英語表現を使うと効果的か、スピーカーが紹介しながらトレーニングしてゆきます。 \nセッションは、スピーカーからの表現や技術の紹介、1対1でのトレーニング、グループでの自由なトークから構成。 \nプレゼンは主にKingが英語で行い、小田が日本語で進行と補足説明をします。 \n【内容】(予定）\n1. Colloquial and Natural Expressions in Daily Conversations\n2. What Americans would Say\n3. Communication Techniques\n4. Effective Listening Techniques\n5. Keep Conversations Going – Expressions and techniques \n【流れ】（予定）\n・Icebreaking （１対１の自己紹介 x ３回 でウォームアップ）\n・テクニック、英語表現の講義\n・ダイアログのロールプレイ　（テクニック・英語表現を実践）\n・テーマに基づく自由な会話　（沢山会話しよう！）\n[休憩]   休憩後 席替え・新たなグループで後半！\n・テクニック、英語表現の講義\n・ダイアログのロールプレイ　（テクニック・英語表現を実践）\n・テーマに基づく自由な会話　（沢山会話しよう！）\n・Let’s make friends! (本日学んだことを振り返り実践しよう！）
URL:https://vitaljapan.com/event/20170318-2-vital-english/
LOCATION:飯田橋 – Iidabashi (Tokyo Shigoto Center)\, 飯田橋3-10-3\, 千代田区\, Tokyo\, 102-0072\, Japan
CATEGORIES:Vital English - 英語勉強会
ATTACH;FMTTYPE=image/jpeg:https://vitaljapan.com/vj/wp-content/uploads/2015/11/VitalEnglish201511.jpg
END:VEVENT
END:VCALENDAR