BEGIN:VCALENDAR
VERSION:2.0
PRODID:-//Vital Japan - ECPv6.11.2//NONSGML v1.0//EN
CALSCALE:GREGORIAN
METHOD:PUBLISH
X-WR-CALNAME:Vital Japan
X-ORIGINAL-URL:https://vitaljapan.com
X-WR-CALDESC:Vital Japan のイベント
REFRESH-INTERVAL;VALUE=DURATION:PT1H
X-Robots-Tag:noindex
X-PUBLISHED-TTL:PT1H
BEGIN:VTIMEZONE
TZID:Asia/Tokyo
BEGIN:STANDARD
TZOFFSETFROM:+0900
TZOFFSETTO:+0900
TZNAME:JST
DTSTART:20210101T000000
END:STANDARD
END:VTIMEZONE
BEGIN:VEVENT
DTSTART;TZID=Asia/Tokyo:20210201T140000
DTEND;TZID=Asia/Tokyo:20210307T233000
DTSTAMP:20260420T204632
CREATED:20200331T045640Z
LAST-MODIFIED:20210203T041758Z
UID:1907-1612188000-1615159800@vitaljapan.com
SUMMARY:【オンライン開催中】緊急事態宣言中のVital English◆Vital Japan月例セッションは休止中
DESCRIPTION:2021年3月7日までの緊急事態宣言延長に伴い、2月のVital English-英語勉強会をオンライン開催(Zoom使用）としております。緊急事態宣言中の特別対応のため、Vital Englishメルマガ（週1回程度配信）のみで詳細・参加申込方法をご案内しています。 \n2月のVital Englishのオンライン開催は次の通りです。 \n★2/13(土)午後7時 Vital English-英語勉強会 【コミュニケーション編】\n◆テーマ 「英会話の筋力アップ・大トレーニング: Love & Friendship-Valentine’s Special」\n※Zoomオンライン開催。 \n★2/20(土)午後7時 Vital English-英語勉強会 【時事英語編】\n◆テーマ 「The World in 2021 ～ 世界と日本の2021年を語る」\n※Zoomオンライン開催。 \n★2/28(日)午後7時 Vital English-英語勉強会 【ビジネス英語編】\n◆テーマ 「テレワークの英語: コロナの時代の働き方の英語とテクニックをますます磨く！」\n※Zoomオンライン開催。 \n詳細・参加申込方法はVital Englishメルマガをご覧ください。 \n\n▼2021年1月7日以前 \n新型コロナウイルス感染拡大防止のため、Vital Japan月例セッションは休止中、Vital English-英語勉強会のみ再開しています。定員を半減し、感染拡大防止策を講じた上での限定開催です。 \n★Vital Japan月例セッション（使用言語：英語のみ、プロフェッショナル向け）は、参加者が多く、また外部のゲストスピーカーをお招きする関係上、再開までしばしお待ちください。 \n※イベントの詳細・参加申込方法は、イベント案内ページをご覧いただくか、Vital Englishメルマガ（配信頻度：週1回程度）をご登録ください。 \n 
URL:https://vitaljapan.com/event/202005/
LOCATION:飯田橋 – Iidabashi (Tokyo Shigoto Center)\, 飯田橋3-10-3\, 千代田区\, Tokyo\, 102-0072\, Japan
CATEGORIES:Vital English - 英語勉強会,Vital Japan －Bilingual Professionals Network
ATTACH;FMTTYPE=image/jpeg:https://vitaljapan.com/vj/wp-content/uploads/2018/05/VitalEnglish201804.jpg
END:VEVENT
END:VCALENDAR