BEGIN:VCALENDAR
VERSION:2.0
PRODID:-//Vital Japan - ECPv6.11.2//NONSGML v1.0//EN
CALSCALE:GREGORIAN
METHOD:PUBLISH
X-WR-CALNAME:Vital Japan
X-ORIGINAL-URL:https://vitaljapan.com
X-WR-CALDESC:Vital Japan のイベント
REFRESH-INTERVAL;VALUE=DURATION:PT1H
X-Robots-Tag:noindex
X-PUBLISHED-TTL:PT1H
BEGIN:VTIMEZONE
TZID:Asia/Tokyo
BEGIN:STANDARD
TZOFFSETFROM:+0900
TZOFFSETTO:+0900
TZNAME:JST
DTSTART:20180101T000000
END:STANDARD
END:VTIMEZONE
BEGIN:VEVENT
DTSTART;TZID=Asia/Tokyo:20180908T183000
DTEND;TZID=Asia/Tokyo:20180908T211500
DTSTAMP:20260426T034312
CREATED:20180803T023233Z
LAST-MODIFIED:20180803T023233Z
UID:1317-1536431400-1536441300@vitaljapan.com
SUMMARY:Sat. Sept 8: Vital Japan◆Topic "Servant Leadership「サーバント・リーダーシップ -  チームを成功へと導く奉仕型リーダーとは」◆英語セミナー
DESCRIPTION:Vital Japan  Monthly Session   第167回 月例セッション\n2018年9月8日（土）　6:30pm 【飯田橋-Iidabashi】\n◆Topic 「サーバント・リーダーシップ – チームを成功へと導く奉仕型リーダーとは」\n“Become a servant leader and help your team succeed!”\n◆Speaker:　 ロッシェル・カップさん（ジャパン・インターカルチュラル・コンサルティング社 社長）\nRochelle Kopp\, Managing Principal\, Japan Intercultural Consulting\n※使用言語： 英語のみ\nSession language: English only\n*English Announcement\n\n\n\n◆日時：2018年9月8日（土）\n勉強会 6:30-9:15pm (開場 6:00pm)   終了後、立食形式のNetworking Party\n◆会場：東京しごとセンター B2F 講堂\n東京都千代田区飯田橋　3-10-3\n◆交通：飯田橋駅より徒歩7分、九段下駅より徒歩10分\n　地図 \n◆参加費：1\,000円\n◆定員：200人限定 \n◆参加申込フォーム　参加受付中！\n◆勉強会の流れ\n-6:30pm Networking time\n6:30pm: Opening\n6:45pm-: Workshop by the Speaker\n9:15pm Session end\n(9:30pm- Networking Party at a casual Italian restaurant) \n◆使用言語：英語のみ \n◆Topic 「サーバント・リーダーシップ – チームを成功へと導く奉仕型リーダーとは」\n“Become a servant leader and help your team succeed!” \n◆Speaker: 　ロッシェル・カップさん（ジャパン・インターカルチュラル・コンサルティング社 社長）\nRochelle Kopp\, Managing Principal\, Japan Intercultural Consulting \n9月のVital Japan月例セッションでは、近年特に注目を集めるリーダーシップのあり方「サーバント・リーダーシップ」を取り上げます。スピーカーはシリコンバレーにてコンサルティング会社を経営し、多数の著書やコラムでも知られるロッシェル・カップさん。いつものように、グループディスカッション等を交えながら、英語のみでのインタラクティブなワークショップです。 \nServant leadership is the idea that telling people what to do isn’t the most effective way of getting things done. Instead\, humbly supporting people\, inspiring them\, and coaching them is much more effective. Servant leadership has gained attention in the U.S. for its positive impact on team performance and employee engagement. \nWhether you’re a manager or a rank-and-file employee\, servant leadership can help you influence people and get things done. In a sense\, servant leadership skills are highly refined interpersonal skills. \nIn this presentation\, management consultant and communication specialist Rochelle Kopp will introduce the key facets of servant leadership. \nIn this presentation\, management consultant and communication specialist Rochelle Kopp will introduce the key facets of servant leadership: \nKey facets of Servant Leadership:\n・Listening（聞く力、上手な質問の仕方）\n・Awareness（気づく力、歩き回りによる管理）\n・Empathy（共感する力、多様性尊重）\n・Foresight（予見する能力）\n・Conceptualization（概念化する力、ビジョンの示し方）\n・Commitment to the growth of people（人間的成長を助長する力、フィードバックの伝え方）\n・Healing（癒す力、Win-Winの交渉術）\n・Persuasion（説得する力、意見の述べ方）\n・Building community（チームビルディング）\n・Stewardship（長期的な考え方） \n▼Speakerのご紹介 \nRochelle Kopp is founder and Managing Principal of Japan Intercultural Consulting\, an international training and consulting firm focused on Japanese business. She specializes in human resource management\, cross-cultural communication\, and organization development.  Rochelle works frequently with the global operations of Japanese firms\, and with foreign firms doing business in Japan. She’s taken up servant leadership as her theme for 2018\, because she believes it is the antidote to many of the issues facing Japanese companies today. \nRochelle is author of over 30 books\, including How Japanese Companies and Adopt the Silicon Valley Way\, Creating Motivated Employees in Japan\, and Sophisticated English. She writes columns for The Asahi Shimbun\, Nikkei Business Daily\, and the Newsweek Japan website. \n経営コンサルタント\nジャパン・インターカルチュラル・コンサルティング社（JIC）創設者・社長\n専門分野：異文化コミュニケーション・グローバル人材育成 ・人事管理・組織活性化・リーダーシップ \nHer recent books in Japanese:\n最新刊：　『英語の品格』\n『反省しないアメリカ人をあつかう方法34』\n『日本企業の社員は、なぜこんなにもモチベーションが低いのか? 』\n『グローバル エリート 世界で成功する英語力とビジネス力を身につける方法』\n○ツイッター：@JICRochelle （日本語）@JapanIntercult（英語） \n  \n  \n*English Announcement \n\n\n\nVital Japan 167th Monthly Session – September 8\, 2018 (Saturday)\n*Topic: “Become a servant leader and help your team succeed!”\n*Speaker: Rochelle Kopp\,Managing Principal\, Japan Intercultural ConsultingSession in English only\n\n\n\n*When: Saturday\, September 8\, 2018\n6:30-9:15pm (Door open 1:30pm)\nNetworking Party to follow at a casual Italian restaurant \n*Place: Tokyo Shigoto Center – B2 Hall\n3-10-3 Iidabashi\, Chiyoda-ku\, Tokyo \n*Access: 7 minute walk from Iidabashi Station\n10 minute walk from Kudanshita Station\n*Map \n*Language: English \n*Cost: 1\,000yen \n*Sign Up Form  Sign-up Now!\n(Max 200 people)\n*Session Flow:\n-6:30pm Networking time\n6:30pm: Opening\n6:45pm-: Workshop by the Speaker\n9:15pm Session end\n(9:30pm- Networking Party at a casual Italian restaurant) \nJoin us for an interactive workshop with Rochelle Kopp\, Managing Principal\, Japan Intercultural Consulting. \nServant leadership is the idea that telling people what to do isn’t the most effective way of getting things done. Instead\, humbly supporting people\, inspiring them\, and coaching them is much more effective. Servant leadership has gained attention in the U.S. for its positive impact on team performance and employee engagement. \nWhether you’re a manager or a rank-and-file employee\, servant leadership can help you influence people and get things done. In a sense\, servant leadership skills are highly refined interpersonal skills. \nIn this presentation\, management consultant and communication specialist Rochelle Kopp will introduce the key facets of servant leadership: \n\nListening\nAwareness\nEmpathy\nForesight\nConceptualization\nCommitment to the growth of people\nHealing\nPersuasion\nBuilding community\nStewardship\n\nThe session will include group discussions and interactive exercises to help you gain deeper insights and build your servant leadership skills. You’ll leave this session with some new ideas to enhance your effectiveness\, no matter what your position in the company. \n*About the Speaker \nRochelle Kopp is founder and Managing Principal of Japan Intercultural Consulting\, an international training and consulting firm focused on Japanese business. She specializes in human resource management\, cross-cultural communication\, and organization development.  Rochelle works frequently with the global operations of Japanese firms\, and with foreign firms doing business in Japan. She’s taken up servant leadership as her theme for 2018\, because she believes it is the antidote to many of the issues facing Japanese companies today. \nRochelle is author of over 30 books\, including How Japanese Companies and Adopt the Silicon Valley Way\, Creating Motivated Employees in Japan\, and Sophisticated English. She writes columns for The Asahi Shimbun\, Nikkei Business Daily\, and the Newsweek Japan website. \n  \n 
URL:https://vitaljapan.com/event/20180908-vital-japan/
LOCATION:飯田橋 – Iidabashi (Tokyo Shigoto Center)\, 飯田橋3-10-3\, 千代田区\, Tokyo\, 102-0072\, Japan
CATEGORIES:Vital Japan －Bilingual Professionals Network
ATTACH;FMTTYPE=image/jpeg:https://vitaljapan.com/vj/wp-content/uploads/2017/04/20161015VitalJapan_Rochelle8.jpg
END:VEVENT
BEGIN:VEVENT
DTSTART;TZID=Asia/Tokyo:20190126T183000
DTEND;TZID=Asia/Tokyo:20190126T211500
DTSTAMP:20260426T034312
CREATED:20181210T024233Z
LAST-MODIFIED:20190117T051252Z
UID:1443-1548527400-1548537300@vitaljapan.com
SUMMARY:【Full-満員】Sat. January 26: Vital Japan「実践！対人関係を向上する英語コミュニケーション力」
DESCRIPTION:Fully-booked!  満員のため受付締切済み \nVital Japan  171st Monthly Session   第171回 月例セッション\n2019年1月26日(土) 6:30pm  【飯田橋-Iidabashi】\n◆Topic 「実践！対人関係を向上する英語コミュニケーション力」\n“Effective Communication Techniques to Improve your Professional Relationships”\n◆Speaker:　 山本ミッシェールさん (NHK国際放送局アナウンサー、Vital Japanオーガナイザー）\nMichelle Yamamoto\, Anchor\, Reporter and Bilingual MC\n※使用言語： 英語のみ    Session language: English\n*English Announcement\n\n\n\n◆日時：2019年1月26日（土）6:30-9:15pm (開場 6:00pm)\n終了後、立食形式のNetworking Party\n◆会場：東京しごとセンター B2F 講堂\n東京都千代田区飯田橋　3-10-3\n◆交通：飯田橋駅より徒歩7分、九段下駅より徒歩10分\n　地図 \n◆参加費：1\,000円\n◆定員：200人 \n◆参加申込フォーム　満員のため受付締切済\n\n◆勉強会の流れ\n-6:30pm Networking time\n6:30pm: Opening\n6:45pm-: Workshop by the Speaker\n9:15pm Session end\n(9:30pm- Networking Party at a casual Italian restaurant) \n◆使用言語： 英語のみ \n2019年最初を飾るスピーカーは、 山本ミッシェールさん。\nミッシェールさんはNHK記者を経て、フリーアナウンサーとして幅広く活躍されています。NHK国際放送局英語ニュースでは、キャスターやリポーターとして世界120ヵ国に向けたテレビニュースやラジオ番組などに出演中。 コミュニケーションのスペシャリストとして講演活動で全国を飛び回っているほか、大学でも教鞭をとっていらっしゃいます。 また、Vital Japanではオーガナイザーも務め、月例セッションへのスピーカーとしての登壇は8年ぶりとなります。 \nこのセッションでは、人間関係・対人関係を向上し成果をあげるためには、どのようなコミュニケーションをすれば良いかを考え、実践してゆきます。 \n“Assertiveness”とは、”SOFTEN Technique”とは等、様々なコミュニケーション技術をご紹介いただきながら、参加者での実践アクティビティーをしてゆきます。 \nインタラクティブなセッションですので、参加者どうしのnetworkingにも力点をおきます。使用言語は、英語のみです。 \n▼Speakerのご紹介\n山本ミッシェールさん Michelle Yamamoto\nNHK国際放送局アナウンサー、フリー・アナウンサー、法政大学・桜美林大学・和光大学非常勤講師。 \nアメリカ生まれ。小中高校時代は日本・アメリカ・イギリス・フランス・ドイツなど海外生活。  日本語、英語の他、フランス語、ドイツ語も堪能。  筑波大学で比較文化学類比較文学類を卒業後、ＮＨＫに入局。京都放送局に配属され記者として活躍。 \n現在は、フリーアナウンサーとして幅広く活躍。NHK国際放送局英語ニュースのキャスターやリポーターとして、世界120ヵ国に向けたテレビニュースやラジオ番組などに出演中。主な出演番組はNHK WORLD TV「Science View」「Newsline」「Tokyo Eye」、NHK Radio Japan「英語ニュース」「Easy Japanese」等 \n国際会議やイベントの司会者、コミュニケーション学、リーダー研修の講師としても各種講演や企業研修など全国で活躍中。 Vital Japanオーガナイザー。 \n著書: 『見るだけ30分！あなたに合った「聞く」「話す」が自然にできる！』（すばる舎） \n  \n*English Announcement \n\n\n\nVital Japan 171st Monthly Session –  January 26\, 2019 (Saturday)\n*Topic “Effective Communication Techniques to Improve your Professional Relationships”\n*Speaker: Michelle Yamamoto\, Anchor\, Reporter and Bilingual MC\n*Session Languge: English\n\n\n\n\n*When: Saturday\, January 26\, 2019\n6:30-9:15pm (Doors open 6:00pm)\nNetworking Party to follow \n*Place: Tokyo Shigoto Center – B2 Hall\n3-10-3 Iidabashi\, Chiyoda-ku\, Tokyo \n*Access: 7 minute walk from Iidabashi Station\n10 minute walk from Kudanshita Station\n*Map \n*Language: English \n*Cost: 1\,000yen \n*Sign Up Form  Sorry! Fully-booked\n(Max 200 people)\n*Session Flow:\n-6:30pm Networking time\n6:30pm: Opening\n6:45pm-: Workshop by the Speaker\n9:15pm Session end\n(9:30pm- Networking Party at a casual Italian restaurant) \nJoin us for an interactive workshop with Michelle Yamamoto\, Anchor\, Reporter and Bilingual MC.  Michelle will be sharing some effective communication techniques to improve your professional relationships.  There will be one to one and group activities and Q&A throughout the session.  Please don’t miss the networking party afterwards\, too! \n*Speaker’s Profile\nMichelle Yamamoto comes with many years of experience in television and radio journalism. She took up her latest assignment at NHK World after she worked as a Japanese journalist for NHK. \nShe is also a professional Bilingual MC for various events including many international conferences\,meetings and parties (Tokyo Olympics bidding banquet (Tri-lingual MC)\, G7 Ise-Shima Summit\, etc…)\, opening store operation parties\, and numerous press conferences and talk show events. \nMichelle’s voice is also known in corporate Japan. She has done numerous narration work including Sumitomo Corporation\, Canon and CNN English Express among others. \nAs Michelle was brought up in the Japan\, US\, UK\, France and Germany\, she is capable of understanding various cultural back grounds as well as speak the languages. \nMichelle holds a Bachelor’s degree in Comparative Culture and Literature from the University of Tsukuba in Japan. \n  \n  \n  \n  \n 
URL:https://vitaljapan.com/event/20190126-vital-japan/
LOCATION:飯田橋 – Iidabashi (Tokyo Shigoto Center)\, 飯田橋3-10-3\, 千代田区\, Tokyo\, 102-0072\, Japan
CATEGORIES:Vital Japan －Bilingual Professionals Network
ATTACH;FMTTYPE=image/jpeg:https://vitaljapan.com/vj/wp-content/uploads/2018/12/Michelle2.jpg
END:VEVENT
BEGIN:VEVENT
DTSTART;TZID=Asia/Tokyo:20190217T140000
DTEND;TZID=Asia/Tokyo:20190217T164500
DTSTAMP:20260426T034312
CREATED:20190118T062239Z
LAST-MODIFIED:20190201T021609Z
UID:1486-1550412000-1550421900@vitaljapan.com
SUMMARY:[Full-満員！】Sun. Feb 17: Vital Japan「やりたいことをやる勇気：  東大→マッキンゼー→お笑い芸人」◆英語セミナー
DESCRIPTION:Vital Japan  172nd Monthly Session   第172回 月例セッション\n2019年2月17日(日) 2:00pm  【飯田橋-Iidabashi】\n◆Topic  「やりたいことをやる勇気： 東大→マッキンゼー→お笑い芸人」\n“Doing What You Really Want to Do in Life\n– Some Thoughts from a Mckinsey Consultant turned Comedian”\n◆Speaker: 石井てる美 さん (お笑いタレント、ワタナベエンターテインメント所属）\nMs. Terumi Ishii\, Comedian\n※使用言語： 英語のみ    Session language: English\nThis announcement is in Japanese only.\nFully-booked! 満員締切済み\nキャンセル待ち等もございません\n\n\n\n◆日時：2019年2月17日(日) 2:00-4:45pm (開場 1:30pm)\n終了後、立食形式のNetworking Party\n◆会場：東京しごとセンター B2F 講堂\n東京都千代田区飯田橋　3-10-3\n◆交通：飯田橋駅より徒歩7分、九段下駅より徒歩10分\n　地図 \n◆参加費：1\,000円\n◆定員：200人 \n◆参加申込フォーム　満員締切済み\n\n◆勉強会の流れ\n  -2:00pm Networking time\n2:00pm: Opening\n2:15pm-: Workshop by the Speaker\n4:45pm Session end\n(5:00pm- Networking Party at a casual Italian restaurant) \n◆使用言語： 英語のみ　 Language: English only \n2月のゲストスピーカーは、大変ユニークな経歴をお持ちの石井てる美さん。Vital Japan初登場です。 \n石井てる美さんは、東京大学にて文系から工学系に転じ卒業。 さらに東京大学大学院修了後には、マッキンゼーにてコンサルタントをされていました。\nそこからお笑いタレントを志し、現在はワタナベエンターテインメント所属のお笑いタレントとして活躍されています。 \n英語でもTOEIC990点（満点）、英語検定1級取得し、英語も使えるタレントという一面も持っていらっしゃいます。 \nこのセッションでは、これまでの人生の決断の数々を語っていただき、現在の活動についてもエンターテイニングに語っていただきます。 \n参加者の英語でのグループトークなどのアクティビティなども交えながらの参加型、インタラクティブなセッションです。 \n使用言語は、英語のみです。 \n▼Speakerのご紹介\n石井てる美 さん Terumi Ishii\n1983年東京生まれ。\n白百合学園中学校・高等学校から東京大学文科三類に入学。工学部社会基盤学科卒、\n東大大学院修了後、2008年マッキンゼー・アンド・カンパニー入社、\nお笑いタレントを志して09年夏に退社。TOEIC990点（満点）、英語検定1級取得。\n現在、ワタナベエンターテインメント所属のお笑いタレントとして活動中。 \n著書に『私がマッキンゼーを辞めた理由: 自分の人生を切り拓く決断力』（角川書店）、\n『キャリアを手放す勇気』（日本経済新聞出版社）がある。 \n 
URL:https://vitaljapan.com/event/20190217-vital-japan/
LOCATION:飯田橋 – Iidabashi (Tokyo Shigoto Center)\, 飯田橋3-10-3\, 千代田区\, Tokyo\, 102-0072\, Japan
CATEGORIES:Vital Japan －Bilingual Professionals Network
ATTACH;FMTTYPE=image/jpeg:https://vitaljapan.com/vj/wp-content/uploads/2019/01/石井てる美.jpg
END:VEVENT
END:VCALENDAR