BEGIN:VCALENDAR
VERSION:2.0
PRODID:-//Vital Japan - ECPv6.11.2//NONSGML v1.0//EN
CALSCALE:GREGORIAN
METHOD:PUBLISH
X-ORIGINAL-URL:https://vitaljapan.com
X-WR-CALDESC:Vital Japan のイベント
REFRESH-INTERVAL;VALUE=DURATION:PT1H
X-Robots-Tag:noindex
X-PUBLISHED-TTL:PT1H
BEGIN:VTIMEZONE
TZID:Asia/Tokyo
BEGIN:STANDARD
TZOFFSETFROM:+0900
TZOFFSETTO:+0900
TZNAME:JST
DTSTART:20250101T000000
END:STANDARD
END:VTIMEZONE
BEGIN:VEVENT
DTSTART;TZID=Asia/Tokyo:20250510T140000
DTEND;TZID=Asia/Tokyo:20250510T163000
DTSTAMP:20260421T201901
CREATED:20250424T074301Z
LAST-MODIFIED:20250424T074301Z
UID:4414-1746885600-1746894600@vitaljapan.com
SUMMARY:【若手中心の特別イベント】5/10(土)Vital English「Culture Exchange Festa： 異文化×英語で広がるネットワーク」★英会話＆交流！
DESCRIPTION:Vital English-英語勉強会\n2025年5月10日(土) 2:00-4:30pm｜東京・飯田橋 \nCulture Exchange Festa\n異文化×英語で広がるネットワーク\n【特別編】レベル不問\n▶ 今すぐ参加申し込み\n\n \nイベント概要\n\n日時：2025年5月10日(土) 2:00-4:30pm\n会場：東京しごとセンター（飯田橋）\nアクセス：飯田橋駅 徒歩7分｜九段下駅 徒歩10分\n参加費：1\,500円（会場にて現金 または PayPay送金）\n定員：150名\nレベル：初級〜上級までOK（レベルの目安）\nSpeaker：小田 康之（Vital Japan代表&創設者）\n\n※初心者の方、お一人参加も安心してご参加いただけます。 \n▶ Vital Englishとは？（詳細はこちら） \n \nこんなあなたにおすすめ！\n\n 英語を“使って”新しい仲間と出会いたい若手社会人＆学生（主に20－30代）\n自分の好きな文化（世界＆日本）を英語で表現してみたい方\nカジュアルな英語アクティビティで楽しみ、スキルアップしたい方\n終了後は自由参加の交流パーティーも\n\nイベントの特徴\n自分の好きな文化を他の人に説明、情報交換することによって、世界の文化について英語で語り、学びます。立食パーティーのような雰囲気で多くの人と英語でネットワーキング。グループトークや１対１の英語トークも盛りだくさん！ \n※自分が好きな文化を英語でミニプレゼン（1分程度）するコーナーがありますので、可能な方は事前準備ください。\nプレゼンする対象は、海外でも日本でもＯＫ。文化は、観光名所、料理、音楽、服装、習慣等なんでもＯＫ。イメージしやすいもの（スマホ/タブレットの写真等）があるとさらに良いかと思います。 \n \n勉強会の流れ（予定）\n・Icebreaking\n・異文化についての語る英語表現（スピーカーによるレクチャー）\n・Show & Tell：好きな文化についてミニプレゼン（グループごと）\n・テーマに基づく自由な会話（沢山会話しよう！）\n[Break]\n・興味がある文化に分かれ、新たなグループ内で自己紹介\n・立ち上がって、文化をネタにネットワーキング（多くの人と出会い・交流しよう！）\n・Summary Talk (本日学んだことを振り返ろう） \n【注意】マルチ、ネットワークビジネス、宗教等の勧誘を目的とした参加は固くお断りします。 \n \n▶ 参加申し込みはこちら
URL:https://vitaljapan.com/event/2025-5-10-vital-english/
LOCATION:飯田橋 – Iidabashi (Tokyo Shigoto Center)\, 飯田橋3-10-3\, 千代田区\, Tokyo\, 102-0072\, Japan
ATTACH;FMTTYPE=image/jpeg:https://vitaljapan.com/vj/wp-content/uploads/2024/06/IMG_4524-scaled.jpg
END:VEVENT
BEGIN:VEVENT
DTSTART;TZID=Asia/Tokyo:20250517T183000
DTEND;TZID=Asia/Tokyo:20250517T204500
DTSTAMP:20260421T201901
CREATED:20250424T071829Z
LAST-MODIFIED:20250424T071829Z
UID:4406-1747506600-1747514700@vitaljapan.com
SUMMARY:【受付中】5/17(土) Vital English「ビジネススクール English：マーケティング Marketing」◆ビジネス英語
DESCRIPTION:Vital English – 英語勉強会\n2025年5月17日(土) 6:30-8:45pm 【東京・京橋】\n【ビジネス英語編】※中-上級レベル\n◆「ビジネススクール English：マーケティング Marketing」\n▶ 参加申し込みはこちら\n \n◆日時： 2025年5月17日(土) 6:30-8:45pm\n◆場所：東京・京橋駅そば（JR東京駅・有楽町駅近く）\n※詳細は参加予定者にお知らせします。（約１週間前＆前日に詳細案内メールをお送りします）\n◆定員：85人\n◆参加費：1\,500円 (原則オンライン支払） 支払方法が飯田橋とは異なりますご注意ください （PayPay送金、PayPal送金、銀行振込のいずれかでお支払いください。）\n●支払方法詳細（京橋）\n◆定員：85人\n◆レベル：中-上級レベル　レベルについて\n◆Speakers: King Chu\, Finance & I.T. Professional、小田 康之\, Vital Japan 代表＆創設者\n\n★参加申込フォーム★　受付中！ \n▶ Vital Englishとは？（詳細はこちら） \n2025年を通じて月１回程度開催する「ビジネススクール English シリーズ」では、\nビジネスの諸分野を取り上げ、重要な概念やキーワードを英語で表現できるようにするとともに、ビジネスで使える英会話力を鍛えます。 \nシリーズすべてにご参加いただいても、興味のあるテーマのみご参加いただいても大丈夫です。\n既に知識のある方も、ビジネスのテーマはよく分からない！という方もお気軽にご参加ください。会話トレーニングも盛りだくさん！　多彩な参加者での交流も楽しみましょう。 \n第4回は「マーケティング – Marketing」。\nビジネスのみならず、日常生活でも重要なマーケティングを取り上げます。\nマーケティングのキーコンセプト、歴史的な変遷、最新のトレンド等を英語でご紹介します。 \nダイアログのロールプレイやグループアクティビティー、ディスカッションや自由な会話を通じて、英語トレーニングしましょう。 \nプレゼンは主にKingが英語で行い、小田が日本語で進行や補足説明をします。 \n【勉強会の流れ】（予定）\n・Icebreaking （１対１の会話でウォームアップ）\n・グループ内で自己紹介\n・キーコンセプト、英語表現のレクチャー\n・ダイアログのロールプレイ（テクニック・英語表現を実践）\n・テーマに基づくディスカッション＆会話（沢山会話しよう！）\n[休憩] 休憩後 席替え・新たなグループで後半！\n・新たなグループ内で自己紹介\n・キーコンセプト、英語表現のレクチャー\n・ダイアログのロールプレイ（テクニック・英語表現を実践）\n・テーマに基づくディスカッション＆会話（沢山会話しよう！）\n・Summary Talk（学んだことを英語で振り返ろう！） \n【ビジネススクール English シリーズ：月１回程度開催予定】\n1. 経営戦略 Corporate Strategy (2025年2月22日終了）\n2. ファイナンス Corporate Finance (2025年3月22日終了）\n3. 会計 Accounting (2025年4月19日終了）\n4. マーケティング Marketing (2025年5月17日）\n5. 営業 Sales\n6. 人事 Human Resources\n7. リーダーシップ Leadership\n8. 交渉術 Negotiation\n9. 異文化コミュニケーション Cross-cultural Communication\n10. 総まとめ – グローバルに活躍するために \n▶ 参加申し込みはこちら
URL:https://vitaljapan.com/event/2025-5-17-vital-english/
LOCATION:東京・京橋
CATEGORIES:Vital English - 英語勉強会
ATTACH;FMTTYPE=image/jpeg:https://vitaljapan.com/vj/wp-content/uploads/2024/03/201612VitalEnglish5.jpg
END:VEVENT
END:VCALENDAR