BEGIN:VCALENDAR
VERSION:2.0
PRODID:-//Vital Japan - ECPv6.11.2//NONSGML v1.0//EN
CALSCALE:GREGORIAN
METHOD:PUBLISH
X-WR-CALNAME:Vital Japan
X-ORIGINAL-URL:https://vitaljapan.com
X-WR-CALDESC:Vital Japan のイベント
REFRESH-INTERVAL;VALUE=DURATION:PT1H
X-Robots-Tag:noindex
X-PUBLISHED-TTL:PT1H
BEGIN:VTIMEZONE
TZID:Asia/Tokyo
BEGIN:STANDARD
TZOFFSETFROM:+0900
TZOFFSETTO:+0900
TZNAME:JST
DTSTART:20190101T000000
END:STANDARD
END:VTIMEZONE
BEGIN:VEVENT
DTSTART;TZID=Asia/Tokyo:20190209T140000
DTEND;TZID=Asia/Tokyo:20190209T171500
DTSTAMP:20260426T121921
CREATED:20190121T084247Z
LAST-MODIFIED:20190222T104151Z
UID:1492-1549720800-1549732500@vitaljapan.com
SUMMARY:2/9(土)午後2時 Vital English-英語勉強会「英語のリズムで話す方法： つなげる・化ける・消える音、英語のリズムを体得し会話！」◆英語発音・リズム
DESCRIPTION:Vital English – 英語勉強会  2019年2月9日(土) 2:00-5:15pm 【飯田橋】\n【特別編】　※レベル不問\n◆テーマ「英語のリズムで話す方法：　つなげる・化ける・消える音、英語のリズムを体得し会話！」」\n\n\n\n◆日時：2019年2月9日(土) 2:00-5:15pm（開場：1:40pm）　終了後、夜の勉強会まで交流タイム \n◆会場：東京しごとセンター B2F 講堂\n東京都千代田区飯田橋 3-10-3\n◆交通：飯田橋駅より徒歩7分、九段下駅より徒歩10分 \n◆参加費：1\,000円\n◆定員：200人 \n◆参加申込フォーム　参加受付中！\n◆Speaker:　小田 康之\, Vital Japan 代表兼オーガナイザー \n◆レベル: レベル不問 \nこのセッションでは、ネイティブの発音の法則を学び、スピーキング力、リスニング力を向上を目指します。 \n英語の発音のなかでも、つながる音、変化する音、消える音（リエゾン、エリジオン等）を特に取り上げます。ネイティブはどう発音するのか、なぞそうなるのかを考え、スピーキング力・リスニング力の向上に生かしてゆきます。 \nさらに、英語のリズム（プロソディー）を改善するとともに、会話の瞬発力アップをはかり、オーラルコミュニケーション力の質を上げるトレーニングを行います。 \n今回のセッションでは、個別の音（母音・子音）についても若干触れますが、それよりも文としてどのように発音するのかに焦点を当てます。 \nプレゼンは小田が日本語と英語を交えて行います。 \n【内容】（予定）\n・英語の発音とは\n・ネイティブはこう発音する！ つなげる・化ける・消える音\n・プロソディ（リズム）改善を実践！ 会話アクティビティ\n・会話をたくさん実践！ \n【流れ】（予定）\n・Icebreaking （１対１の自己紹介 x ３回 でウォームアップ）\n・グループ内で自己紹介\n・英語発音改善のポイント：講義＆トレーニング\n・会話アクティビティ：グループや1対1で実践\n[休憩] 休憩後 席替え・新たなグループで後半！\n・グループ内で自己紹介\n・会話をスムーズに運ぶ表現・テクニック：講義＆トレーニング\n・テーマに基づく自由な会話を通して実践（沢山会話しよう！）\n・Summary Talk (本日学んだことを振り返ろう） \n  \n 
URL:https://vitaljapan.com/event/20190209-vital-english/
LOCATION:飯田橋 – Iidabashi (Tokyo Shigoto Center)\, 飯田橋3-10-3\, 千代田区\, Tokyo\, 102-0072\, Japan
CATEGORIES:Vital English - 英語勉強会
ATTACH;FMTTYPE=image/jpeg:https://vitaljapan.com/vj/wp-content/uploads/2019/01/201612VitalEnglish4.jpg
END:VEVENT
BEGIN:VEVENT
DTSTART;TZID=Asia/Tokyo:20190126T183000
DTEND;TZID=Asia/Tokyo:20190126T211500
DTSTAMP:20260426T121921
CREATED:20181210T024233Z
LAST-MODIFIED:20190117T051252Z
UID:1443-1548527400-1548537300@vitaljapan.com
SUMMARY:【Full-満員】Sat. January 26: Vital Japan「実践！対人関係を向上する英語コミュニケーション力」
DESCRIPTION:Fully-booked!  満員のため受付締切済み \nVital Japan  171st Monthly Session   第171回 月例セッション\n2019年1月26日(土) 6:30pm  【飯田橋-Iidabashi】\n◆Topic 「実践！対人関係を向上する英語コミュニケーション力」\n“Effective Communication Techniques to Improve your Professional Relationships”\n◆Speaker:　 山本ミッシェールさん (NHK国際放送局アナウンサー、Vital Japanオーガナイザー）\nMichelle Yamamoto\, Anchor\, Reporter and Bilingual MC\n※使用言語： 英語のみ    Session language: English\n*English Announcement\n\n\n\n◆日時：2019年1月26日（土）6:30-9:15pm (開場 6:00pm)\n終了後、立食形式のNetworking Party\n◆会場：東京しごとセンター B2F 講堂\n東京都千代田区飯田橋　3-10-3\n◆交通：飯田橋駅より徒歩7分、九段下駅より徒歩10分\n　地図 \n◆参加費：1\,000円\n◆定員：200人 \n◆参加申込フォーム　満員のため受付締切済\n\n◆勉強会の流れ\n-6:30pm Networking time\n6:30pm: Opening\n6:45pm-: Workshop by the Speaker\n9:15pm Session end\n(9:30pm- Networking Party at a casual Italian restaurant) \n◆使用言語： 英語のみ \n2019年最初を飾るスピーカーは、 山本ミッシェールさん。\nミッシェールさんはNHK記者を経て、フリーアナウンサーとして幅広く活躍されています。NHK国際放送局英語ニュースでは、キャスターやリポーターとして世界120ヵ国に向けたテレビニュースやラジオ番組などに出演中。 コミュニケーションのスペシャリストとして講演活動で全国を飛び回っているほか、大学でも教鞭をとっていらっしゃいます。 また、Vital Japanではオーガナイザーも務め、月例セッションへのスピーカーとしての登壇は8年ぶりとなります。 \nこのセッションでは、人間関係・対人関係を向上し成果をあげるためには、どのようなコミュニケーションをすれば良いかを考え、実践してゆきます。 \n“Assertiveness”とは、”SOFTEN Technique”とは等、様々なコミュニケーション技術をご紹介いただきながら、参加者での実践アクティビティーをしてゆきます。 \nインタラクティブなセッションですので、参加者どうしのnetworkingにも力点をおきます。使用言語は、英語のみです。 \n▼Speakerのご紹介\n山本ミッシェールさん Michelle Yamamoto\nNHK国際放送局アナウンサー、フリー・アナウンサー、法政大学・桜美林大学・和光大学非常勤講師。 \nアメリカ生まれ。小中高校時代は日本・アメリカ・イギリス・フランス・ドイツなど海外生活。  日本語、英語の他、フランス語、ドイツ語も堪能。  筑波大学で比較文化学類比較文学類を卒業後、ＮＨＫに入局。京都放送局に配属され記者として活躍。 \n現在は、フリーアナウンサーとして幅広く活躍。NHK国際放送局英語ニュースのキャスターやリポーターとして、世界120ヵ国に向けたテレビニュースやラジオ番組などに出演中。主な出演番組はNHK WORLD TV「Science View」「Newsline」「Tokyo Eye」、NHK Radio Japan「英語ニュース」「Easy Japanese」等 \n国際会議やイベントの司会者、コミュニケーション学、リーダー研修の講師としても各種講演や企業研修など全国で活躍中。 Vital Japanオーガナイザー。 \n著書: 『見るだけ30分！あなたに合った「聞く」「話す」が自然にできる！』（すばる舎） \n  \n*English Announcement \n\n\n\nVital Japan 171st Monthly Session –  January 26\, 2019 (Saturday)\n*Topic “Effective Communication Techniques to Improve your Professional Relationships”\n*Speaker: Michelle Yamamoto\, Anchor\, Reporter and Bilingual MC\n*Session Languge: English\n\n\n\n\n*When: Saturday\, January 26\, 2019\n6:30-9:15pm (Doors open 6:00pm)\nNetworking Party to follow \n*Place: Tokyo Shigoto Center – B2 Hall\n3-10-3 Iidabashi\, Chiyoda-ku\, Tokyo \n*Access: 7 minute walk from Iidabashi Station\n10 minute walk from Kudanshita Station\n*Map \n*Language: English \n*Cost: 1\,000yen \n*Sign Up Form  Sorry! Fully-booked\n(Max 200 people)\n*Session Flow:\n-6:30pm Networking time\n6:30pm: Opening\n6:45pm-: Workshop by the Speaker\n9:15pm Session end\n(9:30pm- Networking Party at a casual Italian restaurant) \nJoin us for an interactive workshop with Michelle Yamamoto\, Anchor\, Reporter and Bilingual MC.  Michelle will be sharing some effective communication techniques to improve your professional relationships.  There will be one to one and group activities and Q&A throughout the session.  Please don’t miss the networking party afterwards\, too! \n*Speaker’s Profile\nMichelle Yamamoto comes with many years of experience in television and radio journalism. She took up her latest assignment at NHK World after she worked as a Japanese journalist for NHK. \nShe is also a professional Bilingual MC for various events including many international conferences\,meetings and parties (Tokyo Olympics bidding banquet (Tri-lingual MC)\, G7 Ise-Shima Summit\, etc…)\, opening store operation parties\, and numerous press conferences and talk show events. \nMichelle’s voice is also known in corporate Japan. She has done numerous narration work including Sumitomo Corporation\, Canon and CNN English Express among others. \nAs Michelle was brought up in the Japan\, US\, UK\, France and Germany\, she is capable of understanding various cultural back grounds as well as speak the languages. \nMichelle holds a Bachelor’s degree in Comparative Culture and Literature from the University of Tsukuba in Japan. \n  \n  \n  \n  \n 
URL:https://vitaljapan.com/event/20190126-vital-japan/
LOCATION:飯田橋 – Iidabashi (Tokyo Shigoto Center)\, 飯田橋3-10-3\, 千代田区\, Tokyo\, 102-0072\, Japan
CATEGORIES:Vital Japan －Bilingual Professionals Network
ATTACH;FMTTYPE=image/jpeg:https://vitaljapan.com/vj/wp-content/uploads/2018/12/Michelle2.jpg
END:VEVENT
END:VCALENDAR