BEGIN:VCALENDAR
VERSION:2.0
PRODID:-//Vital Japan - ECPv6.11.2//NONSGML v1.0//EN
CALSCALE:GREGORIAN
METHOD:PUBLISH
X-WR-CALNAME:Vital Japan
X-ORIGINAL-URL:https://vitaljapan.com
X-WR-CALDESC:Vital Japan のイベント
REFRESH-INTERVAL;VALUE=DURATION:PT1H
X-Robots-Tag:noindex
X-PUBLISHED-TTL:PT1H
BEGIN:VTIMEZONE
TZID:Asia/Tokyo
BEGIN:STANDARD
TZOFFSETFROM:+0900
TZOFFSETTO:+0900
TZNAME:JST
DTSTART:20200101T000000
END:STANDARD
END:VTIMEZONE
BEGIN:VEVENT
DTSTART;TZID=Asia/Tokyo:20200723T140000
DTEND;TZID=Asia/Tokyo:20200723T163000
DTSTAMP:20260422T091548
CREATED:20200702T071544Z
LAST-MODIFIED:20200709T035826Z
UID:2001-1595512800-1595521800@vitaljapan.com
SUMMARY:7/23(祝) Vital English-英語勉強会◆「英会話の筋力アップ・大トレーニング：ポジティブ＆モチベーションの上がる言葉で前へ進もう！」
DESCRIPTION:【新型コロナ対策のため定員減員、時間短縮等の特別プログラムです】\nVital English – 英語勉強会　 2020年7月23日(祝・木) 2:00-4:30pm 【飯田橋】\n【コミュニケーション編】 ※中級レベル\n◆テーマ「英会話の筋力アップ・大トレーニング： ポジティブ＆モチベーションの上がる言葉で前へ進もう！」\n\n\n\n\n◆日時： 2020年7月23日(祝・木) 2:00-4:30pm（開場：1:40pm） \n◆会場：東京しごとセンター  地下講堂\n東京都千代田区飯田橋 3-10-3\n◆交通：飯田橋駅より徒歩7分、九段下駅より徒歩10分 \n◆参加費：1\,000円\n◆定員：約120人 \n◆参加申込フォーム　参加受付中！\n下記の【注意事項】にご同意のうえ、上記リンクの「参加申込フォーム」をご送信ください。\n◆Speakers:\nKing Chu\, Finance & I.T. Professional（American from Hawaii)\n小田 康之\, Vital Japan 代表 & 創設者 \n◆レベル: 中級　レベルの詳細 \n\n\n\n新型コロナウイルス感染拡大防止のための参加者定員を通常より減らした特別プログラムです。\n時間は2時間30分。参加者間の距離をいつもよりとった会場のレイアウトとなります。握手を伴う最初のIcebreaking、最後のLet’s make friends!等は行いません。会場内の扉はすべて全開、換気扇で換気を強化します。\n\n\n\n祝日午後、会話盛りだくさんのセッションです。\n新型コロナの影響で暗い気持ちになることも多い日々ですが、ポジティブな表現やモチベーションの上がる言葉を学び・積極的に使い、未来に向かってゆきましょう。たくさん英語を話したい方、ネイティブらしい表現を学びたい方にお薦めのセッション。 \nロールプレイのダイアログなども使いながらネイティブらしい英語表現を学び、実践。\n英語での適切な会話表現が、すぐに口からできるようにトレーニングをします。 \nセッションは、スピーカーからの表現や技術の紹介、オリジナル・ダイアログのロールプレイ、1対1やグループでの自由なトークから構成。 \nプレゼンは主にKingが英語で行い、小田が日本語と英語で進行と補足説明をします。 \n【内容】(予定）\n1. Colloquial and Natural Expressions in Daily Conversations\n2. Positive & Motivational Words and Expressions\n3. Communication Techniques\n4. Effective Listening Techniques \n【流れ】（予定）\n・Icebreaking: グループ内で自己紹介\n・テクニック、英語表現の講義\n・ダイアログのロールプレイ　（テクニック・英語表現を実践）\n・テーマに基づく自由な会話　（沢山会話しよう！）\n[休憩] 休憩後 席替え・新たなグループで後半！\n・Icebreaking: 新たなグループ内で自己紹介\n・テクニック、英語表現の講義\n・ダイアログのロールプレイ　（テクニック・英語表現を実践）\n・テーマに基づく自由な会話　（沢山会話しよう！）\n・Summary Talk　（グループで今日学んだことを振り返ろう！） \n【注意事項】\n 新型コロナウイルス感染拡大防止のために下記をご承諾の上、参加申込ください。\n・当日体調不良や発熱の見られる方は、ご参加をご遠慮ください。\n・万一新型コロナに感染した場合に重症化する可能性の高い持病をお持ちの方、ご同居者が持病のお持ちの方のご参加はご遠慮ください。\n・マスクを各自ご準備の上、特に会話の際には必ずご着用ください。\n・会話の際にはマスク着用の上、相手との距離を1メートル以上とるようにお願いします。\n・ご入場の際、受付にて手指消毒剤で消毒お願いします。\n・消毒用アルコール綿/除菌ウェットティッシュもご準備していますので、必要な方は受付でお受け取りの上ご使用ください\n・飲物コーナーは設けませんので、飲物が必要な方は各自ご準備ください。\n・政府・東京都からの要請や社会状況の変化により、変更または中止となることもございます。 \n 
URL:https://vitaljapan.com/event/2020-7-23-vital-english/
LOCATION:飯田橋 – Iidabashi (Tokyo Shigoto Center)\, 飯田橋3-10-3\, 千代田区\, Tokyo\, 102-0072\, Japan
CATEGORIES:Vital English - 英語勉強会
ATTACH;FMTTYPE=image/gif:https://vitaljapan.com/vj/wp-content/uploads/2015/04/VitalEnglish_too_logo.gif
END:VEVENT
END:VCALENDAR