BEGIN:VCALENDAR
VERSION:2.0
PRODID:-//Vital Japan - ECPv6.11.2//NONSGML v1.0//EN
CALSCALE:GREGORIAN
METHOD:PUBLISH
X-ORIGINAL-URL:https://vitaljapan.com
X-WR-CALDESC:Vital Japan のイベント
REFRESH-INTERVAL;VALUE=DURATION:PT1H
X-Robots-Tag:noindex
X-PUBLISHED-TTL:PT1H
BEGIN:VTIMEZONE
TZID:Asia/Tokyo
BEGIN:STANDARD
TZOFFSETFROM:+0900
TZOFFSETTO:+0900
TZNAME:JST
DTSTART:20200101T000000
END:STANDARD
END:VTIMEZONE
BEGIN:VEVENT
DTSTART;TZID=Asia/Tokyo:20200808T180000
DTEND;TZID=Asia/Tokyo:20200808T203000
DTSTAMP:20260422T164133
CREATED:20200729T034518Z
LAST-MODIFIED:20200729T034518Z
UID:2018-1596909600-1596918600@vitaljapan.com
SUMMARY:8/8(土)Vital English-英語勉強会【ビジネス英語編】◆「新ビジネストレンドを語ろう～ コロナが生み出す新たな潮流」
DESCRIPTION:Vital English – 英語勉強会 　 2020年8月8日(土) 6:00-8:30pm 【飯田橋】\n【ビジネス英語編】 ※中-上級レベル\n◆テーマ「新ビジネストレンドを語ろう～ コロナが生み出す新たな潮流」\n\n\n\n\n◆日時： 2020年8月8日(土) 6:00-8:30pm（開場：5:40pm） \n◆会場：東京しごとセンター  地下講堂\n東京都千代田区飯田橋 3-10-3\n◆交通：飯田橋駅より徒歩7分、九段下駅より徒歩10分 \n◆参加費：1\,000円\n◆定員：約100人 \n◆参加申込フォーム　参加受付中！\n下記の感染拡大防止のための【注意事項】にご同意のうえ、上記リンクの「参加申込フォーム」をご送信ください。\n◆Speakers:\nKing Chu\, Finance & I.T. Professional（American from Hawaii)\n小田 康之\, Vital Japan 代表 & 創設者 \n◆レベル: 中-上級　レベルの詳細 \n  \n\n\n\n新型コロナウイルス感染拡大防止のため参加者定員を通常より減らした特別プログラムです。\n時間は2時間30分。マスク着用必須の上、参加者間の距離をいつもよりとった会場のレイアウトとなります。握手を伴う最初のIcebreaking等は行いません。会場内のすべての扉は全開、換気扇5台で換気を強化しています。\n\n\n\n新型コロナウイルスの世界大での流行によって、ビジネスも大きな変革が迫られています。\nこのセッションでは、どのようなビジネス・産業が、どのように変化してゆくのかをスピーカーが英語でご紹介し、参加者で議論してゆきます。 \nまた、オリジナルのダイアログを通して、よく使われる英語表現やネイティブらしいビジネス英語表現をご紹介。\nロールプレイや自由な会話、グループディスカッションなど、英語での会話を繰り返しながら、豊かなビジネス会話表現力も目指しましょう！ \nセッションは、スピーカーからのテーマに関する内容、表現や技術の紹介、1対1およびグループでのトーク、さらにグループでの自由なディスカッションから構成。 \nプレゼンはKingが英語で行い、小田が日本語や英語で進行や補足をします。 \n【内容】（予定）\n・新型コロナウイルスのビジネスへのインパクト\n・どのような産業やビジネスが影響が大きいか\n・どのような変革が迫られるか\n・どう英語で表現するか\n・ビジネス英語会話トレーニング \n【流れ】（予定）\n・グループ内で自己紹介\n・テーマ、英語表現の講義\n・ダイアログのロールプレイ　（テクニック・英語表現を実践）\n・テーマに基づく自由な会話　（沢山会話しよう！）\n[休憩] 休憩後 席替え・新たなグループで後半！\n・新たなグループ内で自己紹介\n・テーマ、英語表現の講義\n・ダイアログのロールプレイ　（テクニック・英語表現を実践）\n・テーマに基づく自由な会話　（沢山会話しよう！） \n【注意事項】\n新型コロナウイルス感染拡大防止のために下記をご承諾の上、参加申込ください。\n・当日体調不良や発熱の見られる方、感染者と濃厚接触した可能性のある方はご参加をご遠慮ください。\n・万一新型コロナに感染した場合に重症化する可能性の高い持病をお持ちの方、ご同居者が持病のお持ちの方のご参加はご遠慮ください。\n・マスクを各自ご準備の上、会話の際には必ずご着用ください。\n・会話の際にはマスク着用の上、相手との距離を1メートル以上とるようにお願いします。\n・ご入場の際、受付にて手指消毒剤で消毒お願いします。\n・消毒用アルコール綿/除菌ウェットティッシュもご準備しますので、必要な方は受付でお受け取りの上ご使用ください\n・飲物コーナーは設けませんので、飲物が必要な方は各自ご準備ください。\n・政府・東京都からの要請や社会状況の変化により、変更または中止となることもございます。 \n 
URL:https://vitaljapan.com/event/2020-8-8-vital-english/
LOCATION:飯田橋 – Iidabashi (Tokyo Shigoto Center)\, 飯田橋3-10-3\, 千代田区\, Tokyo\, 102-0072\, Japan
CATEGORIES:Vital English - 英語勉強会
ATTACH;FMTTYPE=image/gif:https://vitaljapan.com/vj/wp-content/uploads/2015/04/VitalEnglish_too_logo.gif
END:VEVENT
END:VCALENDAR