BEGIN:VCALENDAR
VERSION:2.0
PRODID:-//Vital Japan - ECPv6.11.2//NONSGML v1.0//EN
CALSCALE:GREGORIAN
METHOD:PUBLISH
X-ORIGINAL-URL:https://vitaljapan.com
X-WR-CALDESC:Vital Japan のイベント
REFRESH-INTERVAL;VALUE=DURATION:PT1H
X-Robots-Tag:noindex
X-PUBLISHED-TTL:PT1H
BEGIN:VTIMEZONE
TZID:Asia/Tokyo
BEGIN:STANDARD
TZOFFSETFROM:+0900
TZOFFSETTO:+0900
TZNAME:JST
DTSTART:20180101T000000
END:STANDARD
END:VTIMEZONE
BEGIN:VEVENT
DTSTART;TZID=Asia/Tokyo:20180716T140000
DTEND;TZID=Asia/Tokyo:20180716T164500
DTSTAMP:20260421T233225
CREATED:20180612T071057Z
LAST-MODIFIED:20180612T071229Z
UID:1279-1531749600-1531759500@vitaljapan.com
SUMMARY:July 16: Vital Japan「メンタル＆フィジカルの能力を引き出す自己鍛錬法 - 米国陸軍式レジリエンス」“Extreme Self Care: Take Care of the Asset!”◆英語セミナー / Workshop in English
DESCRIPTION:Vital Japan  Monthly Session   第165回 月例セッション\n2018年7月16日(祝・月) 6:30pm 【飯田橋-Iidabashi】\n◆Topic「メンタル＆フィジカルの能力を引き出す自己鍛錬法 – 米国陸軍式レジリエンス」\n“Extreme Self Care: Take Care of the Asset!”\n◆Speaker: 　Roger Sherrin\, Executive Coach; Former Military Intelligence Officer in the U.S. Army\n※使用言語： 英語のみ　　Session language: English only\n（英語の勉強会ではありません。Vital Englishと間違えないようご注意ください。）\n*English Announcement\n\n\n\n◆日時：2018年7月16日（祝・月）\n勉強会 2:00-4:45pm（開場 1:30pm）   終了後、立食形式のNetworking Party \n◆会場：東京しごとセンター B2F 講堂\n東京都千代田区飯田橋　3-10-3\n◆交通：飯田橋駅より徒歩7分、九段下駅より徒歩10分\n　地図 \n◆参加費：1\,000円\n◆定員：200人 \n◆参加申込フォーム　参加受付中！\n◆勉強会の流れ（予定）\n-2:00pm Networking time\n2:00pm: Opening\n2:15pm-: Workshop by the Speaker\n4:45pm Session end\n(5:00pm- Networking Party at a casual Italian restaurant) \n◆使用言語：英語のみ　English Only \nストレスの多い現代社会において、自らのメンタルやフィジカルをどうコントロールし、潜在的な能力を引き出してゆくかは、キャリアを築いてゆく上で、あるいは私生活・人間関係の構築の上でも大きな意味を持っています。 \n今回のセッションでは、米国陸軍でのレジリエンス（復元力、打たれ強さ）の概念を踏まえ、様々なアクティビティーを通じて、自己の潜在能力を引き出すメンタル・フィジカルのコントロール法を実践的にトレーニングしてます。 \nスピーカーのRoger Sherrinさんは、米国陸軍にて Military Intelligence specialist\, East Asia & Japan Regional Analyst\, Counter-Terrorism Analyst として、日・米・欧で活躍されてきた方です。 \nインタラクティブなセッションですので、参加者どうしのnetworkingにも力点をおきます。\n使用言語は、全編英語のみです。Vital Japanは、既に英語で議論ができるレベルの方のみ参加可能です。英語の勉強会をしたい方はVital Englishにご参加ください。 \n▼Speakerからのメッセージ\nWorking on success in your career\, education\, life\, relationships\, or happiness takes a lot of work and comes with a lot of stress; however\, often the last thing we put our attention or focus is on our own health and peace of mind! In business\, an “asset” is defined as a “resource that an individual or company owns and is the source of economic value with the expectation that it will provide future benefits.”  We are our most important asset contributing to a successful and happy life! \nAnd if we don’t “Take Care of the Asset”\, our bodies and minds will get your attention through illness\, injury\, fatigue\, lack of motivation\, depression\, or even death! \nIn this session we will become more conscious of how to take care of the most important asset in our lives – ourselves!\nWe will talk about Extreme Self Care in the areas of fitness\, meditation\, stress management\, and the U.S. Army concept of Resilience developed in response to years of combat stress. Learn how to set Personal Boundaries to protect your energy and time. \nResponding to special requests from Vital Japan members\, Roger will share the secrets of how to find and develop successful relationship partners. You might be surprised at this approach to attracting the right people into your life! \nYou can’t be successful in your professional career or personal life if you don’t take Extreme care of the Asset! And you can apply these same lessons to improve your team leadership as well! Be prepared for some new ideas and ways of thinking about your life! \n▼Speakerのご紹介\nRoger is an Executive Coach who works with top level corporate leaders in Japan; consults in Leadership Development; and also privately coaches globally minded professionals such as Vital Japan participants. \nHe holds an M.B.A. from Hitotsubashi University & London Business School\, and is currently pursuing a Master’s of Science in Leadership\, Organizational Development\, & Executive Coaching through the University of Texas at Dallas. \nRoger recently retired from a global career as a U.S. Army Officer as a Regional Intelligence Analyst working in Japan\, the U.K.\, Belgium\, and Hawaii.  He can also be seen around Tokyo as the lead vocalist and guitarist for his band\, The Boso Boys! \n  \n*English Announcement \n\n\n\nVital Japan 165th Monthly Session – July 16\, 2018 (Monday & Holiday)\n*Topic: “Extreme Self Care: Take Care of the Asset!”\n*Speaker: Roger Sherrin\, Executive Coach; Former Military Intelligence Officer in the U.S. Army\nSession in English only\n\n\n\n*When: Monday & Holiday\, July 16th\, 2018\n2:00-4:45pm (Door open 1:30pm)\nNetworking Party to follow at a casual Italian restaurant \n*Place: Tokyo Shigoto Center – B2 Hall\n3-10-3 Iidabashi\, Chiyoda-ku\, Tokyo \n*Access: 7 minute walk from Iidabashi Station\n10 minute walk from Kudanshita Station\n*Map \n*Language: English \n*Cost: 1\,000yen \n*Sign Up Form  Sign-up Now!\n(Max 150 people)\n*Session Flow:\n-2:00pm Networking time\n2:00pm: Opening\n2:15pm-: Workshop by the Speaker\n4:45pm Session end\n(5:00pm- Networking Party at a casual Italian restaurant) \nPlease join us for an interactive workshop with Roger Sherrin\, Executive Coach and Former Military Intelligence Officer in the U.S. Army \nFollowing on the popularity of his Leadership Lessons from the U.S. Army\, Executive Coach and Leadership Development specialist\, Roger Sherrin\, returns to Vital Japan for another unique presentation full of practical take-home techniques to improve your life and career! \nBased on Vital Japan participant’s real life questions and comments\, Roger has designed a special presentation to discuss how to protect the most important factor in your life and career success – “Yourself!” \nWorking on success in your career\, education\, life\, relationships\, or happiness takes a lot of work and comes with a lot of stress; however\, often the last thing we put our attention or focus is on our own health and peace of mind! In business\, an “asset” is defined as a “resource that an individual or company owns and is the source of economic value with the expectation that it will provide future benefits.”  We are our most important asset contributing to a successful and happy life! \nAnd if we don’t “Take Care of the Asset”\, our bodies and minds will get your attention through illness\, injury\, fatigue\, lack of motivation\, depression\, or even death! \nIn this session we will become more conscious of how to take care of the most important asset in our lives – ourselves!\nWe will talk about Extreme Self Care in the areas of fitness\, meditation\, stress management\, and the U.S. Army concept of Resilience developed in response to years of combat stress. Learn how to set Personal Boundaries to protect your energy and time. \nResponding to special requests from Vital Japan members\, Roger will share the secrets of how to find and develop successful relationship partners. You might be surprised at this approach to attracting the right people into your life! \nYou can’t be successful in your professional career or personal life if you don’t take Extreme care of the Asset! And you can apply these same lessons to improve your team leadership as well! Be prepared for some new ideas and ways of thinking about your life! \n*About the Speaker\nRoger is an Executive Coach who works with top level corporate leaders in Japan; consults in Leadership Development; and also privately coaches globally minded professionals such as Vital Japan participants. \nHe holds an M.B.A. from Hitotsubashi University & London Business School\, and is currently pursuing a Master’s of Science in Leadership\, Organizational Development\, & Executive Coaching through the University of Texas at Dallas. \nRoger recently retired from a global career as a U.S. Army Officer as a Regional Intelligence Analyst working in Japan\, the U.K.\, Belgium\, and Hawaii.  He can also be seen around Tokyo as the lead vocalist and guitarist for his band\, The Boso Boys! \n  \n 
URL:https://vitaljapan.com/event/20180716-vital-japan/
LOCATION:飯田橋 – Iidabashi (Tokyo Shigoto Center)\, 飯田橋3-10-3\, 千代田区\, Tokyo\, 102-0072\, Japan
CATEGORIES:Vital Japan －Bilingual Professionals Network
ATTACH;FMTTYPE=image/jpeg:https://vitaljapan.com/vj/wp-content/uploads/2015/09/20150425VitalJapan1.jpg
END:VEVENT
BEGIN:VEVENT
DTSTART;TZID=Asia/Tokyo:20180728T180000
DTEND;TZID=Asia/Tokyo:20180728T204500
DTSTAMP:20260421T233225
CREATED:20180627T025526Z
LAST-MODIFIED:20180727T070914Z
UID:1289-1532800800-1532810700@vitaljapan.com
SUMMARY:7/28(土)午後6時 Vital English◆「海外出張の英語 ～ 世界を飛び回るためコミュニケーション力」◆ビジネス英語
DESCRIPTION:Vital English – 英語勉強会 2018年7月28日(土) 6:00-8:45pm 【飯田橋】\n【ビジネス英語編】 [中級-上級レベル]\n◆テーマ「海外出張の英語 ～ 世界を飛び回るためコミュニケーション力」\n\n\n\n◆日時： 2018年7月28日(土) 勉強会:\n6:00-9:15pm （開場：5:40pm）\n※台風の影響により、終了時刻を30分繰り上げ、6:00-8:45pmといたします。 \n◆会場：東京しごとセンター B2F 講堂\n東京都千代田区飯田橋 3-10-3\n◆交通：飯田橋駅より徒歩7分、九段下駅より徒歩10分 \n◆参加費：1\,000円\n◆定員：200人 \n◆参加申込フォーム　参加受付中！\n◆Speakers:\nKing Chu\, Finance & I.T. Professional （American from Hawaii)\n小田 康之\, Vital Japan 代表兼オーガナイザー \n◆レベル: 中級-上級　レベルの詳細 \n※Vital Englishはこう進行する！（初めての方へ） \n  \n世界を飛び回る方、飛び回ろうとする方に役立つ英語表現やコミュニケーションテクニックが満載のセッションです。海外出張経験のない方から、頻繁にこなす方まで楽しんでいただけることと思います。 \n海外出張を円滑に進め、現地の人を魅了し、結果を出し、良好な関係を築いてゆくには、英語スキルとともに高いコミュニケーション力が必要です。 \nこのセッションでは、\n出張のための事前準備、コーディネーション、ミーティング、トラブル対処、接待・食事などの場面を扱います。ロールプレイのダイアログで英語表現やコミュケーションテクニックを実践的にトレーニングしてゆきましょう。 \nセッションは、スピーカーからの表現や技術の紹介、1対1でのトレーニング、グループでの自由なディスカッションから構成。 \nプレゼンは主にKingが英語で行い、小田が日本語や英語で進行や補足をします。 \n【内容】（予定）\n・世界を飛び回るためのコミュニケーション力\n・出張のための事前準備\n・現地でのミーティング\n・トラブル対処\n・接待・食事\n・自由な会話を1対1やグループで！ \n【流れ】（予定）\n・Icebreaking （１対１の自己紹介 x ３回 でウォームアップ）\n・グループ内で自己紹介\n・テクニック、英語表現の講義\n・ダイアログのロールプレイ　（テクニック・英語表現を実践）\n・テーマに基づく自由な会話　（沢山会話しよう！）\n[休憩] 休憩後 席替え・新たなグループで後半！\n・新たなグループ内で自己紹介\n・テクニック、英語表現の講義\n・ダイアログのロールプレイ　（テクニック・英語表現を実践）\n・テーマに基づく自由な会話　（沢山会話しよう！）\n・Let’s make friends! (本日学んだことを振り返り実践しよう！）
URL:https://vitaljapan.com/event/20180728-vital-english-2/
LOCATION:飯田橋 – Iidabashi (Tokyo Shigoto Center)\, 飯田橋3-10-3\, 千代田区\, Tokyo\, 102-0072\, Japan
CATEGORIES:Vital English - 英語勉強会
ATTACH;FMTTYPE=image/jpeg:https://vitaljapan.com/vj/wp-content/uploads/2018/05/VitalEnglish201804.jpg
END:VEVENT
END:VCALENDAR