BEGIN:VCALENDAR
VERSION:2.0
PRODID:-//Vital Japan - ECPv6.11.2//NONSGML v1.0//EN
CALSCALE:GREGORIAN
METHOD:PUBLISH
X-ORIGINAL-URL:https://vitaljapan.com
X-WR-CALDESC:Vital Japan のイベント
REFRESH-INTERVAL;VALUE=DURATION:PT1H
X-Robots-Tag:noindex
X-PUBLISHED-TTL:PT1H
BEGIN:VTIMEZONE
TZID:Asia/Tokyo
BEGIN:STANDARD
TZOFFSETFROM:+0900
TZOFFSETTO:+0900
TZNAME:JST
DTSTART:20190101T000000
END:STANDARD
END:VTIMEZONE
BEGIN:VEVENT
DTSTART;TZID=Asia/Tokyo:20190119T140000
DTEND;TZID=Asia/Tokyo:20190119T171500
DTSTAMP:20260420T120959
CREATED:20181221T074222Z
LAST-MODIFIED:20181221T075313Z
UID:1461-1547906400-1547918100@vitaljapan.com
SUMMARY:1/19(土)午後2時 Vital English-英語勉強会【時事英語編】「The World in 2019 ～ 世界と日本の2019年を語る」
DESCRIPTION:Vital English – 英語勉強会  2019年1月19日(土) 2:00-5:15pm 【田町】 (100人限定）\n【時事英語編】　※中級-上級レベル\n◆テーマ「The World in 2019 ～ 世界と日本の2019年を語る」\n\n\n\n\n◆日時： 2019年1月19日（土）2:00-5:15pm（開場：1:40pm）　終了後、夜の勉強会まで自由な交流タイム \n◆会場： 東京・港区 JR田町駅/地下鉄三田駅そば\n100人限定のため場所の詳細は、参加申込者にご連絡しています。\nメンバー向けのメルマガでもお知らせしています。 \n◆参加費：1\,000円\n◆定員：100人限定 \n◆参加申込フォーム  参加受付中！\n\n*携帯メール・hotmailは不達の可能性が高いので他のアドレスで申込ください。その他のアドレスで受付確認メールが届かない場合には、スパムメールフォルダをご確認ください。\n \n◆Speaker:　小田 康之\, Vital Japan 代表兼オーガナイザー \n◆レベル: 中-上級　レベルの詳細 \n※Vital Englishはこう進行する！（初めての方へ） \n新しい年の幕開けです。　2019年の日本と世界はどうなるのか、予想される重大イベントを展望し、英語で語れるようにしましょう。 \n2019年には、ポピュリズムの流れはどうなってゆくのか、中国と米国の貿易戦争はどうなるか、欧州ではいよいよ英国がEU離脱。注目すべき事項が目白押しです。 \n2019年の国際情勢でウォッチしておくべきポイントをスピ－カーが紹介。世界の政治経済、社会的変動、さらには国内の重大事について、関連の英語表現を紹介しながら、参加者で英語トレーニングや英語ディスカッションをします。 \n各自どんな出来事に注目しているかなどもシェアし、英語で世界の問題を話しまくりましょう。 \nセッションは、スピーカーからの英語表現や背景情報の紹介、1対1でのトレーニング、グループでの自由なディスカッションから構成。 \nプレゼンは小田が日本語と英語を交え行います。 \n【内容】(予定）\n・2019年 世界と日本の重大事\n・1対1やグループでの英語トーク \n【流れ】（予定）\n・Icebreaking （１対１の自己紹介 x ３回 でウォームアップ）\n・講義＆トレーニング\n・会話・表現アクティビティ：グループや1対1で実践\n[休憩] 休憩後 席替え・新たなグループで後半！\n・新たなグループ内で自己紹介\n・講義＆トレーニング\n・会話・表現アクティビティ：グループや1対1で実践\n・Summary Talk (本日学んだことを1対1で振り返ろう） \n 
URL:https://vitaljapan.com/event/20190119-vital-english/
LOCATION:Tamachi – 田町\, Tokyo\, Japan
CATEGORIES:Vital English - 英語勉強会
ATTACH;FMTTYPE=image/jpeg:https://vitaljapan.com/vj/wp-content/uploads/2018/02/2017VitalEnglish_participants-1.jpeg
END:VEVENT
BEGIN:VEVENT
DTSTART;TZID=Asia/Tokyo:20190119T180000
DTEND;TZID=Asia/Tokyo:20190119T211500
DTSTAMP:20260420T120959
CREATED:20181221T075413Z
LAST-MODIFIED:20190116T003026Z
UID:1464-1547920800-1547932500@vitaljapan.com
SUMMARY:【満員】1/19(土)午後6時 Vital English-英語勉強会「英会話の筋力アップ・大トレーニング - New Year Special」◆英会話
DESCRIPTION:Vital English – 英語勉強会  2019年1月19日(土) 6:00-9:15pm 【田町】 (100人限定）\n【コミュニケーション編】 ※中級レベル\n◆テーマ「英会話の筋力アップ・大トレーニング – New Year Special」\n満員のため受付締切済\n\n\n\n\n◆日時：2019年1月19日(土) 6:00-9:15pm（受付開始：5:40pm） 終了後、懇親会 \n◆会場： 東京・港区 JR田町駅/地下鉄三田駅そば\n100人限定のため場所の詳細は、参加申込者にご連絡しています。\nメンバー向けのメルマガでもお知らせしています。 \n◆参加費：1\,000円\n◆定員：100人限定 \n◆参加申込フォーム  満員のため受付締切\n※キャンセル待ち等もございません\n\n*携帯メール・hotmailは不達の可能性が高いので他のアドレスで申込ください。その他のアドレスで受付確認メールが届かない場合には、スパムメールフォルダをご確認ください。\n \n◆Speakers:\nKing Chu\, Finance & IT Professional（American from Hawaii)\n小田 康之\, Vital Japan 代表兼オーガナイザー \n◆レベル: 中級　レベルの詳細 \n※Vital Englishはこう進行する！（初めての方へ） \n  \n田町の100人限定の小さな会場での開催です。 \n2019年最初の「英会話の筋力アップ・大トレーニング」。新年スペシャル版です。新たな表現を学び、たくさん会話。会話力や表現力の幅を広げましょう。 \nたくさん英語を話したい方、ネイティブらしい表現を学びたい方にお薦めのセッション。ロールプレイのダイアログなども使いながらネイティブらしい英語表現を実践。英語での適切な会話表現が、瞬時に口からできるようにトレーニングをします。 \n好印象を与え、相手と親しくなるためのコミュニケーションテクニックも満載。さらにネイティブが使う表現を数多く紹介してゆきます。会話を始め、進め、広げてゆくには、どのような英語表現を使うと効果的か、スピーカーが紹介しながらトレーニングしてゆきます。 \nセッションは、スピーカーからの表現や技術の紹介、1対1でのダイアログのロールプレイやテーマに基づく会話、グループでの自由なトークから構成。 \nプレゼンは主にKingが英語で行い、小田が日本語で進行と補足説明をします。 \n【内容】(予定）\n1. Colloquial and Natural Expressions in Daily Conversations\n2. What Americans would Say\n3. Communication Techniques\n4. Effective Listening Techniques \n【流れ】（予定）\n・Icebreaking （１対１の自己紹介 x ３回 でウォームアップ）\n・グループ内で自己紹介\n・テクニック、英語表現の講義\n・ダイアログのロールプレイ　（テクニック・英語表現を実践）\n・テーマに基づく自由な会話　（沢山会話しよう！）\n[休憩] 休憩後 席替え・新たなグループで後半！\n・新たなグループ内で自己紹介\n・テクニック、英語表現の講義\n・ダイアログのロールプレイ　（テクニック・英語表現を実践）\n・テーマに基づく自由な会話　（沢山会話しよう！）\n・Let’s make friends! (本日学んだことを振り返り実践しよう！） \n 
URL:https://vitaljapan.com/event/20190122-vital-english-2/
LOCATION:Tamachi – 田町\, Tokyo\, Japan
CATEGORIES:Vital English - 英語勉強会
ATTACH;FMTTYPE=image/jpeg:https://vitaljapan.com/vj/wp-content/uploads/2015/09/VitalEnglish3.jpg
END:VEVENT
BEGIN:VEVENT
DTSTART;TZID=Asia/Tokyo:20190126T140000
DTEND;TZID=Asia/Tokyo:20190126T171500
DTSTAMP:20260420T120959
CREATED:20190111T035827Z
LAST-MODIFIED:20190121T082330Z
UID:1473-1548511200-1548522900@vitaljapan.com
SUMMARY:1/26(土)午後２時 Vital English-英語勉強会◆「英語漬けで徹底会話！ - パターンを活用して会話力を磨く」◆英会話
DESCRIPTION:Vital English – 英語勉強会  2019年1月12日(土) 2:00-5:15pm 【飯田橋】\n【コミュニケーション編】 [中-上級レベル]　※英語のみ\n◆テーマ「英語漬けで徹底会話！ – パターンを活用して会話力を磨く」\n\n\n\n◆日時：2019年1月26日(土) 2:00-5:15pm（開場：1:40pm）\n終了後、6:30pmよりVital Japan月例セッションと立食パーティー \n◆会場：東京しごとセンター B2F 講堂\n東京都千代田区飯田橋 3-10-3\n◆交通：飯田橋駅より徒歩7分、九段下駅より徒歩10分 \n◆参加費：1\,000円\n◆定員：200人 \n◆参加申込フォーム　参加受付中！\n◆Speakers:\nKing Chu\, Finance & I.T. Professional （American from Hawaii)\n小田 康之\, Vital Japan 代表兼オーガナイザー \n◆レベル: 中-上級　レベルの詳細 \n※Vital Englishはこう進行する！（初めての方へ） \n英語のみのセッション。流暢に会話するためのパターンを学び、沢山会話し、英語での会話力を向上させましょう。\n英語漬けになりたい方、会話力を向上したい方、沢山会話をしたい方、知り合いを増やしたい方、ぜひどうぞ。 \nより会話が自然にできるようになるための「使える」パターン（例文・表現）をご紹介。それらを活用しながら、実践トレーニング、会話してゆきます。 \n日常的な会話、さらにはビジネス英語などあらゆる場面で使える基本的なパターンを使い、１対１やグループで英語で会話をしてゆきます。 \nセッションは、スピーカーからの表現や技術の紹介、1対1でのトーク、グループでの自由なトークから構成。 \nプレゼンはKingと小田が英語で行います。 \n【流れ】（予定）\n・Icebreaking （１対１の自己紹介 x ３回 でウォームアップ）\n・テクニック、英語表現の講義\n・パターンのトレーニング　（テクニック・英語表現を実践）\n・テーマに基づく自由な会話　（沢山会話しよう！）\n[休憩] 休憩後 席替え・新たなグループで後半！\n・新たなグループ内で自己紹介\n・テクニック、英語表現の講義\n・パターンのトレーニング　（テクニック・英語表現を実践）\n・テーマに基づく自由な会話　（沢山会話しよう！）\n・Let’s make friends! (本日学んだことを振り返り実践しよう！） \n  \n 
URL:https://vitaljapan.com/event/20190126-vital-english/
LOCATION:飯田橋 – Iidabashi (Tokyo Shigoto Center)\, 飯田橋3-10-3\, 千代田区\, Tokyo\, 102-0072\, Japan
CATEGORIES:Vital English - 英語勉強会
ATTACH;FMTTYPE=image/jpeg:https://vitaljapan.com/vj/wp-content/uploads/2017/05/VitalEnglish201512.jpg
END:VEVENT
BEGIN:VEVENT
DTSTART;TZID=Asia/Tokyo:20190126T183000
DTEND;TZID=Asia/Tokyo:20190126T211500
DTSTAMP:20260420T120959
CREATED:20181210T024233Z
LAST-MODIFIED:20190117T051252Z
UID:1443-1548527400-1548537300@vitaljapan.com
SUMMARY:【Full-満員】Sat. January 26: Vital Japan「実践！対人関係を向上する英語コミュニケーション力」
DESCRIPTION:Fully-booked!  満員のため受付締切済み \nVital Japan  171st Monthly Session   第171回 月例セッション\n2019年1月26日(土) 6:30pm  【飯田橋-Iidabashi】\n◆Topic 「実践！対人関係を向上する英語コミュニケーション力」\n“Effective Communication Techniques to Improve your Professional Relationships”\n◆Speaker:　 山本ミッシェールさん (NHK国際放送局アナウンサー、Vital Japanオーガナイザー）\nMichelle Yamamoto\, Anchor\, Reporter and Bilingual MC\n※使用言語： 英語のみ    Session language: English\n*English Announcement\n\n\n\n◆日時：2019年1月26日（土）6:30-9:15pm (開場 6:00pm)\n終了後、立食形式のNetworking Party\n◆会場：東京しごとセンター B2F 講堂\n東京都千代田区飯田橋　3-10-3\n◆交通：飯田橋駅より徒歩7分、九段下駅より徒歩10分\n　地図 \n◆参加費：1\,000円\n◆定員：200人 \n◆参加申込フォーム　満員のため受付締切済\n\n◆勉強会の流れ\n-6:30pm Networking time\n6:30pm: Opening\n6:45pm-: Workshop by the Speaker\n9:15pm Session end\n(9:30pm- Networking Party at a casual Italian restaurant) \n◆使用言語： 英語のみ \n2019年最初を飾るスピーカーは、 山本ミッシェールさん。\nミッシェールさんはNHK記者を経て、フリーアナウンサーとして幅広く活躍されています。NHK国際放送局英語ニュースでは、キャスターやリポーターとして世界120ヵ国に向けたテレビニュースやラジオ番組などに出演中。 コミュニケーションのスペシャリストとして講演活動で全国を飛び回っているほか、大学でも教鞭をとっていらっしゃいます。 また、Vital Japanではオーガナイザーも務め、月例セッションへのスピーカーとしての登壇は8年ぶりとなります。 \nこのセッションでは、人間関係・対人関係を向上し成果をあげるためには、どのようなコミュニケーションをすれば良いかを考え、実践してゆきます。 \n“Assertiveness”とは、”SOFTEN Technique”とは等、様々なコミュニケーション技術をご紹介いただきながら、参加者での実践アクティビティーをしてゆきます。 \nインタラクティブなセッションですので、参加者どうしのnetworkingにも力点をおきます。使用言語は、英語のみです。 \n▼Speakerのご紹介\n山本ミッシェールさん Michelle Yamamoto\nNHK国際放送局アナウンサー、フリー・アナウンサー、法政大学・桜美林大学・和光大学非常勤講師。 \nアメリカ生まれ。小中高校時代は日本・アメリカ・イギリス・フランス・ドイツなど海外生活。  日本語、英語の他、フランス語、ドイツ語も堪能。  筑波大学で比較文化学類比較文学類を卒業後、ＮＨＫに入局。京都放送局に配属され記者として活躍。 \n現在は、フリーアナウンサーとして幅広く活躍。NHK国際放送局英語ニュースのキャスターやリポーターとして、世界120ヵ国に向けたテレビニュースやラジオ番組などに出演中。主な出演番組はNHK WORLD TV「Science View」「Newsline」「Tokyo Eye」、NHK Radio Japan「英語ニュース」「Easy Japanese」等 \n国際会議やイベントの司会者、コミュニケーション学、リーダー研修の講師としても各種講演や企業研修など全国で活躍中。 Vital Japanオーガナイザー。 \n著書: 『見るだけ30分！あなたに合った「聞く」「話す」が自然にできる！』（すばる舎） \n  \n*English Announcement \n\n\n\nVital Japan 171st Monthly Session –  January 26\, 2019 (Saturday)\n*Topic “Effective Communication Techniques to Improve your Professional Relationships”\n*Speaker: Michelle Yamamoto\, Anchor\, Reporter and Bilingual MC\n*Session Languge: English\n\n\n\n\n*When: Saturday\, January 26\, 2019\n6:30-9:15pm (Doors open 6:00pm)\nNetworking Party to follow \n*Place: Tokyo Shigoto Center – B2 Hall\n3-10-3 Iidabashi\, Chiyoda-ku\, Tokyo \n*Access: 7 minute walk from Iidabashi Station\n10 minute walk from Kudanshita Station\n*Map \n*Language: English \n*Cost: 1\,000yen \n*Sign Up Form  Sorry! Fully-booked\n(Max 200 people)\n*Session Flow:\n-6:30pm Networking time\n6:30pm: Opening\n6:45pm-: Workshop by the Speaker\n9:15pm Session end\n(9:30pm- Networking Party at a casual Italian restaurant) \nJoin us for an interactive workshop with Michelle Yamamoto\, Anchor\, Reporter and Bilingual MC.  Michelle will be sharing some effective communication techniques to improve your professional relationships.  There will be one to one and group activities and Q&A throughout the session.  Please don’t miss the networking party afterwards\, too! \n*Speaker’s Profile\nMichelle Yamamoto comes with many years of experience in television and radio journalism. She took up her latest assignment at NHK World after she worked as a Japanese journalist for NHK. \nShe is also a professional Bilingual MC for various events including many international conferences\,meetings and parties (Tokyo Olympics bidding banquet (Tri-lingual MC)\, G7 Ise-Shima Summit\, etc…)\, opening store operation parties\, and numerous press conferences and talk show events. \nMichelle’s voice is also known in corporate Japan. She has done numerous narration work including Sumitomo Corporation\, Canon and CNN English Express among others. \nAs Michelle was brought up in the Japan\, US\, UK\, France and Germany\, she is capable of understanding various cultural back grounds as well as speak the languages. \nMichelle holds a Bachelor’s degree in Comparative Culture and Literature from the University of Tsukuba in Japan. \n  \n  \n  \n  \n 
URL:https://vitaljapan.com/event/20190126-vital-japan/
LOCATION:飯田橋 – Iidabashi (Tokyo Shigoto Center)\, 飯田橋3-10-3\, 千代田区\, Tokyo\, 102-0072\, Japan
CATEGORIES:Vital Japan －Bilingual Professionals Network
ATTACH;FMTTYPE=image/jpeg:https://vitaljapan.com/vj/wp-content/uploads/2018/12/Michelle2.jpg
END:VEVENT
END:VCALENDAR