BEGIN:VCALENDAR
VERSION:2.0
PRODID:-//Vital Japan - ECPv6.11.2//NONSGML v1.0//EN
CALSCALE:GREGORIAN
METHOD:PUBLISH
X-WR-CALNAME:Vital Japan
X-ORIGINAL-URL:https://vitaljapan.com
X-WR-CALDESC:Vital Japan のイベント
REFRESH-INTERVAL;VALUE=DURATION:PT1H
X-Robots-Tag:noindex
X-PUBLISHED-TTL:PT1H
BEGIN:VTIMEZONE
TZID:Asia/Tokyo
BEGIN:STANDARD
TZOFFSETFROM:+0900
TZOFFSETTO:+0900
TZNAME:JST
DTSTART:20190101T000000
END:STANDARD
END:VTIMEZONE
BEGIN:VEVENT
DTSTART;TZID=Asia/Tokyo:20190715T140000
DTEND;TZID=Asia/Tokyo:20190715T164500
DTSTAMP:20260422T175108
CREATED:20190613T065611Z
LAST-MODIFIED:20190713T175815Z
UID:1625-1563199200-1563209100@vitaljapan.com
SUMMARY:満員！★7/15(祝) Vital English-英語勉強会◆英会話総まとめ：2019年前半を振り返って、どんどん会話しよう！
DESCRIPTION:Vital English – 英語勉強会  2019年7月15日(月・祝) 2:00-4:45pm 【飯田橋】\n【コミュニケーション編】[中級レベル]\n◆テーマ 「英会話総まとめ：2019年前半を振り返って、どんどん会話しよう！」\n \n満員のため受付締切済\n\n\n\n\n◆日時：7月15(月・祝) 2:00-4:45pm（開場：1:40pm） 終了後、懇親会 \n◆会場：東京しごとセンター B2F 講堂\n東京都千代田区飯田橋 3-10-3\n◆交通：飯田橋駅より徒歩7分、九段下駅より徒歩10分 \n◆参加費：1\,000円\n◆定員：200人 \n◆参加申込フォーム　満員のため受付締切済\n◆Speakers:\nKing Chu\, Finance & I.T. Professional （American from Hawaii)\n小田 康之\, Vital Japan 代表 & 創設者 \n◆レベル: 中級　レベルの詳細 \n※Vital Englishはこう進行する！（初めての方へ） \n2019年の上半期も終わり、いよいよ後半戦です。\nこの6月までに紹介してきた英語表現・ボキャブラリーの中から、日常でよく使う表現、自分の趣味や活動を伝える表現などから選りすぐりの内容をご紹介。 \n今年前半の出来事や自分の活動を振り返りながら、沢山英語で会話をし、表現を豊かに、そして滑らかにするトレーニングをしてゆきます。会話力や表現力の幅を広げ英会話の達人を目指すと同時に、新たな仲間・友人・知り合いも増やしましょう。常連の方はもちろん、初めての方もお気軽にご参加ください。 \nたくさん英語を話したい方、ネイティブらしい表現を学びたい方にお薦めのセッション。ロールプレイのダイアログなども使いながらネイティブらしい英語表現を実践。英語での適切な会話表現が、瞬時に口からできるようにトレーニングをします。 \nセッションは、スピーカーからの会話表現やテクニックの紹介、オリジナル・ダイアログのロールプレイ、1対1やグループでの自由なトークから構成。 \nプレゼンは主にKingが英語で行い、小田が日本語で進行と補足説明をします。 \n【内容】(予定）\n1. Looking back on the first half of 2019/Start of Reiwa\, Your activities\n2. Colloquial and Natural Expressions in Daily Conversations\n3. Communication Techniques\n4. Effective Listening Techniques \n【流れ】（予定）\n・Icebreaking （１対１の自己紹介 x ３回 でウォームアップ）\n・グループ内で自己紹介\n・テクニック、英語表現の講義\n・ダイアログのロールプレイ　（テクニック・英語表現を実践）\n・テーマに基づく自由な会話　（沢山会話しよう！）\n[休憩] 休憩後 席替え・新たなグループで後半！\n・新たなグループ内で自己紹介\n・テクニック、英語表現の講義\n・ダイアログのロールプレイ　（テクニック・英語表現を実践）\n・テーマに基づく自由な会話　（沢山会話しよう！）\n・Let’s make friends! (本日学んだことを振り返り実践しよう！） \n  \n 
URL:https://vitaljapan.com/event/2019-07-15-vital-english/
LOCATION:飯田橋 – Iidabashi (Tokyo Shigoto Center)\, 飯田橋3-10-3\, 千代田区\, Tokyo\, 102-0072\, Japan
CATEGORIES:Vital English - 英語勉強会
ATTACH;FMTTYPE=image/jpeg:https://vitaljapan.com/vj/wp-content/uploads/2017/05/VitalEnglish201512.jpg
END:VEVENT
BEGIN:VEVENT
DTSTART;TZID=Asia/Tokyo:20190719T193000
DTEND;TZID=Asia/Tokyo:20190719T213000
DTSTAMP:20260422T175108
CREATED:20190608T085549Z
LAST-MODIFIED:20190615T024424Z
UID:1616-1563564600-1563571800@vitaljapan.com
SUMMARY:【Full-満員】Friday\, July 19: Vital Japan Networking Party - Summer 2019★大交流パーティー
DESCRIPTION:★Vital Japan Networking Party – Summer 2019★　\n～多彩な国際プロフェッショナルが集う恒例の交流パーティー～ \n Friday\, July 19th\, 2019 – 7:30-9:30pm 【東京・飯田橋 – Iidabashi\, Tokyo】 \nFully-booked! 満員のため受付締切済\n\n\n\n◆When: Friday\, July 19th\, 2019 – 7:30-9:30pm (Doors open at 7:20pm）\n◆Where: Grato (Italian Restaurant)\n2-7-2 Fujimi\, Chiyoda-ku\, Tokyo\n千代田区富士見2-7-2 飯田橋プラーノモールBゾーン108\nAccess: 1 minute walk from JR Iidbashi Station (Right next to the JR station platform)\n飯田駅から徒歩1分（JR飯田橋駅ホーム沿い） \n▼\nMap – 会場地図\n◆Cost: 4\,000yen (drink & food) 立食形式＆飲み放題\n* 当日、会場にてお支払いをお願い致します。 \n参加申し込みは次のフォームをご送信ください。 \n◆Sign-Up Form　Fully-booked!  満員受付締切済\n※No waiting list  キャンセル待ちもございません。\n\n◆Capacity: 120 people 定員：120人 \n1995年以来開催してきました大交流パーティー「Vital Japan & GEO Global: Networking Party」、久しぶりの開催です。国籍やバックグラウンドも多彩な参加者で熱い交流を繰り広げましょう！ \nVital Japanは、Vital Englishを含めおよそ1万人が参加する一大コミュニティ。\n毎回の勉強会やパーティーなどのイベントが様々な学びの場となると同時に、多彩な参加者の出会い・交流の場として、参加者から熱い支持をいただきながら活動をますます広げています。 \n今回のパーティーでは、勉強会に日頃参加されている方はもちろん、初めての方も歓迎です。カジュアルな歓談が中心ですので、ぜひこの機会に多くの人と出会い、友人・仲間をつくり、ネットワークを広げましょう。 \n参加ご希望の方は、上記の参加申込フォームからお申し込みお願いします。 \nJoin us on coming Friday\, July 19th at Grato in Iidabashi\, and meet the most connected people in Tokyo! \nVital Japan is a community of over 10\,000 people\, providing a forum for members to meet and discuss business\, public policy and communication related issues. \nOur biannual networking parties are casual get-together where members and first-timers participate and network one another.\nWe are sure it will be a great evening to make friends and build a new network.\nAll are welcome!\nPlease sign-up from the Sign Up Form. \n▼Photos from our past events on FB page\nこれまでのパーティーや勉強会の様子はfacebookページでご覧ください。 \n【注意】\n* 会場内はすべて禁煙です。\n* ご友人をお連れ頂く場合には、参加者それぞれのご氏名で参加申込フォームを参加人数分ご送信ください。\n* 学生の参加も可能です。（参加申込フォームに、学校名・学年を明記下さい。）\n* 事前の参加申込み多数、会の趣旨に合わないバックグラウンドの方などの理由で御参加を受け付けられないこともあります。\n* 商品・サービスの営業や宗教の勧誘など他の参加者の迷惑となる行為を禁止します。\n*使用言語は問いません。 \n  \n 
URL:https://vitaljapan.com/event/20190719-vital-japan/
LOCATION:Grato – Iidabashi\, 富士見2-7-2\, 千代田区\, 東京都\, Japan
CATEGORIES:Vital Japan －Bilingual Professionals Network
ATTACH;FMTTYPE=image/jpeg:https://vitaljapan.com/vj/wp-content/uploads/2018/03/20171223VitalEnglish_party.jpg
END:VEVENT
END:VCALENDAR