BEGIN:VCALENDAR
VERSION:2.0
PRODID:-//Vital Japan - ECPv6.11.2//NONSGML v1.0//EN
CALSCALE:GREGORIAN
METHOD:PUBLISH
X-WR-CALNAME:Vital Japan
X-ORIGINAL-URL:https://vitaljapan.com
X-WR-CALDESC:Vital Japan のイベント
REFRESH-INTERVAL;VALUE=DURATION:PT1H
X-Robots-Tag:noindex
X-PUBLISHED-TTL:PT1H
BEGIN:VTIMEZONE
TZID:Asia/Tokyo
BEGIN:STANDARD
TZOFFSETFROM:+0900
TZOFFSETTO:+0900
TZNAME:JST
DTSTART:20220101T000000
END:STANDARD
END:VTIMEZONE
BEGIN:VEVENT
DTSTART;TZID=Asia/Tokyo:20221224T140000
DTEND;TZID=Asia/Tokyo:20221224T163000
DTSTAMP:20260426T102645
CREATED:20221202T064621Z
LAST-MODIFIED:20221214T073600Z
UID:2971-1671890400-1671899400@vitaljapan.com
SUMMARY:【受付中】12/24(土)Vital English-英語勉強会★「2022年英会話トレーニング総まとめ－クリスマス・スペシャル：語って交流！」＆ Christmas Party 2022!
DESCRIPTION:Vital English – 英語勉強会 　 2022年12月24日(土) 2:00-4:30pm 【飯田橋】\n【コミュニケーション編】 ※中級レベル以上\n◆テーマ 「2022年英会話トレーニング総まとめ－クリスマス・スペシャル：語って交流！」\n　勉強会後、Christmas Party 2022も開催！\n\n\n\n\n◆日時： 2022年12月24日(土) 2:00-4:30pm (開場：1:40pm) \n◆会場：東京しごとセンター  講堂\n東京都千代田区飯田橋 3-10-3\n◆交通：飯田橋駅より徒歩7分、九段下駅より徒歩10分\n※建物が改装工事中のため、会場への入口は建物の右手からとなります。 \n◆参加費：1\,000円（会場にてお支払いください）\n◆定員：約150人 \n◆参加申込フォーム　参加受付中！\n下記の感染拡大防止のための【注意事項】にご同意のうえ、上記リンクの「参加申込フォーム」をご送信ください。\n◆Speakers:\nKing Chu\, Finance & I.T. Professional（American from Hawaii)\n小田 康之\, Vital Japan 代表 & 創設者 \n◆レベル: 中級以上　レベルの詳細 \nいよいよ一年の締めくくり。\n2022年最後のリアル勉強会で、沢山の人と会話をし、英語コミュニケーション力をアップ。　クリスマスにふさわしい交流を広げましょう！ \nこのセッションでは、クリスマスや年末年始の休暇に関連した様々な英語表現を学びながら、たくさん英語で会話をしてゆきます。　そもそもクリスマスとはどのようなものか、その歴史や欧米ではどのように祝われているのかを英語でお伝えします。 \nクリスマスやパーティー、休暇を楽しむための表現などを学び、多くの参加者との出会いとコミュニケーションを楽しみましょう。 \nセッションは、スピーカーからの英語表現やコミュニケーションテクニックの紹介、オリジナルのダイアログのロールプレイ、1対1やグループでの自由なトークから構成。 \nプレゼンはKingが英語で行い、小田が日本語で進行と補足説明をします。 \n※終了後、5:30pmより飯田橋駅近くにてChristmas Party 2022/年末交流パーティーを開催します。\n　パーティーは定員を超える参加希望者となる見込みのため、詳細は上記勉強会の参加申込者にご連絡いたします。\n　なお、パーティーのみの参加はできません。 \n【内容】（予定）\n・クリスマスや宗教を問わず年末年始の休暇に使う英語表現\n・クリスマスの歴史、欧米ではどう祝われる？\n・ネイティブらしい会話表現\n・ダイアログのロールプレイ\n・1対1やグループでのテーマに基づいた自由な会話！ \n【流れ】（予定）\n・Icebreaking: グループ内で自己紹介\n・英語表現、テクニックの講義\n・ダイアログのロールプレイ（英語表現・テクニックを実践）\n・テーマに基づく自由な会話（沢山会話しよう！）\n[休憩] 休憩後 席替え・新たなグループで後半！\n・新たなグループ内で自己紹介\n・英語表現、テクニックの講義\n・ダイアログのロールプレイ（英語表現・テクニックを実践）\n・テーマに基づく自由な会話（沢山会話しよう！）\n・Summary Talk (本日学んだことを振り返ろう） \n★【注意事項】\n・マスクを必ずご着用ください。\n・ご入場の際、１階入口または受付にて手指消毒剤で消毒お願いします。\n・当日体調不良や発熱の見られる方、感染者と濃厚接触した可能性のある方は、ご参加をご遠慮ください。\n・飲物コーナーは設けませんので、飲物が必要な方は各自ご準備ください。\n・政府・東京都からの要請や感染拡大状況の変化により、変更または中止となることもございます。 \n会場は全扉全開、換気扇5台で換気をする等、感染防止対策を強化していますが、ご参加者の皆さんも可能な限りワクチン接種する等、感染拡大防止にご協力よろしくお願いいたします。 \n  \n  \n 
URL:https://vitaljapan.com/event/2022-12-24-vital-english/
LOCATION:飯田橋 – Iidabashi (Tokyo Shigoto Center)\, 飯田橋3-10-3\, 千代田区\, Tokyo\, 102-0072\, Japan
CATEGORIES:Vital English - 英語勉強会
ATTACH;FMTTYPE=image/jpeg:https://vitaljapan.com/vj/wp-content/uploads/2017/03/201612VitalEnglish.jpg
END:VEVENT
BEGIN:VEVENT
DTSTART;TZID=Asia/Tokyo:20230805T190000
DTEND;TZID=Asia/Tokyo:20230805T213000
DTSTAMP:20260426T102645
CREATED:20230722T065204Z
LAST-MODIFIED:20230722T065204Z
UID:3212-1691262000-1691271000@vitaljapan.com
SUMMARY:【受付中】8/5(土)Vital English-英語勉強会★「英語力＆情報力を研ぎ澄ます 英語メディア活用法」
DESCRIPTION:Vital English – 英語勉強会 　 2023年8月5日(土) 7:00-9:30pm 【Zoom・オンライン】\n【特別編】 ※中級レベル以上\n◆テーマ 「英語力＆情報力を研ぎ澄ます 英語メディア活用法」\n\n\n\n\n◆日時： 2023年8月5日(土) 7:00-9:30pm 　終了後、オンライン懇親会\n※途中からの参加、退出も可能ですが、詳細は下記【注意事項】のURLをご覧ください。 \n◆開催方法：Zoomミーティングを使用したオンライン \n◆定員：100人 \n◆参加費：1\,000円（PayPay送金、PayPal、銀行振込のいずれか）参加後、任意　●支払方法詳細 \n◆参加申込フォーム　参加受付中！\n\n◆Speaker:　小田 康之\, Vital Japan 代表 & 創設者 \n◆参加までの流れ、注意事項（初めての方は必ずご確認の上、お申し込みください。） \n英語メディアを活用し、どのように情報力を高めるか、また英語力を高めるかを探ります。\n夏にじっくりと英語メディアの読み方を考えましょう。\n初めての方もお気軽にご参加ください！ \nこのセッションでは、ネットを活用してどのような新聞、雑誌、テレビ、ラジオ、ウェブメディアに目を通すと有益か、ビジネス、国際情勢の理解に必要な情報をどう収集し、活用するかをスピーカーがお伝えします。 \nさらにスマホ等のディバイスを活用して、どう有効に情報収集をし、かつ英語力を上げてゆくかを参加者と共に考えます。 \n英語での1対1の会話やグループディスカッションを多数交えながら行いますので、英語での会話や多彩な参加者との交流も楽しみましょう。 \nプレゼンは小田が主に日本語で行います。 \n【内容】(予定）\n・伝統的な英語メディア、新たなメディアにはどのようなものがあるか\n・新たなネットメディアと伝統メディアの傾向\n・情報力を高めるための英語メディアの読み方\n・英語力・英会話力高めるための英語メディアの活用方法\n・1対1やグループで英語で対話！ \n【勉強会の流れ】（予定）\n7:00pm: Opening Talk\n7:10pm: *1 to 1 Self-Introduction (1対1 or 3人) 3 分 x 2回\n7:20pm: Lecture\n7:30pm: *1 to 1 Conversation: (1対1) 4分\n7:35pm: Lecture\n7:50pm: *1 to 1 Conversation: (1対1) 4分\n7:55pm: Lecture\n8:10pm: *Group Conversation: (3人) 8 分\n8:20pm: Break 休憩 5分\n8:25pm: Lecture\n8:35pm: *1 to 1 Conversation: (1対1) 4分\n8:40pm: Lecture\n8:55pm: *Group Conversation: (3人) 8分\n9:05pm: Lecture\n9:15pm: *1 to 1 Summary Talk: (1対1) 4分 x 2回\n9:25pm: Closing Talk\n9:30pm: End\n*が参加者のアクティビティ（1対1やグループでの会話、トレーニング） \n▼オンライン懇親会/Online Drinking Party (Optional)\n10:00pmより開催します。参加ご希望の方は、勉強会終了後そのままオンラインでいてください。\n5人程のグループに分かれ（Zoomのbreakout機能）で30分のラウンドを3回行います。（毎回顔ぶれを自動で変えます。） \n  \n◆参加までの流れ、注意事項 \n◆参加申込フォーム　参加受付中！\n \n 
URL:https://vitaljapan.com/event/2023-8-5-vital-english/
LOCATION:オンライン
CATEGORIES:Vital English - 英語勉強会
ATTACH;FMTTYPE=image/jpeg:https://vitaljapan.com/vj/wp-content/uploads/2018/12/CNN_Vital_top.jpg
END:VEVENT
END:VCALENDAR