BEGIN:VCALENDAR
VERSION:2.0
PRODID:-//Vital Japan - ECPv6.11.2//NONSGML v1.0//EN
CALSCALE:GREGORIAN
METHOD:PUBLISH
X-WR-CALNAME:Vital Japan
X-ORIGINAL-URL:https://vitaljapan.com
X-WR-CALDESC:Vital Japan のイベント
REFRESH-INTERVAL;VALUE=DURATION:PT1H
X-Robots-Tag:noindex
X-PUBLISHED-TTL:PT1H
BEGIN:VTIMEZONE
TZID:Asia/Tokyo
BEGIN:STANDARD
TZOFFSETFROM:+0900
TZOFFSETTO:+0900
TZNAME:JST
DTSTART:20230101T000000
END:STANDARD
END:VTIMEZONE
BEGIN:VEVENT
DTSTART;TZID=Asia/Tokyo:20230107T140000
DTEND;TZID=Asia/Tokyo:20230107T163000
DTSTAMP:20260426T104458
CREATED:20221223T051522Z
LAST-MODIFIED:20221223T051522Z
UID:2986-1673100000-1673109000@vitaljapan.com
SUMMARY:【受付中】1/7(土)Vital English-英語勉強会★「2023年を最高の年にする！- 英会話＆ディスカッション力のスタートダッシュ」
DESCRIPTION:Vital English – 英語勉強会 　 2023年1月7日(土) 2:00-4:30pm 【飯田橋】\n【ディスカッション編】 ※中級レベル以上\n◆テーマ 「2023年を最高の年にする！- 英会話＆ディスカッション力のスタートダッシュ」\n\n\n\n\n◆日時： 2023年1月7日(土) 2:00-4:30pm (開場：1:40pm) \n◆会場：東京しごとセンター  講堂\n東京都千代田区飯田橋 3-10-3\n◆交通：飯田橋駅より徒歩7分、九段下駅より徒歩10分\n※建物が改装工事中のため、会場への入口は建物の右手からとなります。 \n◆参加費：1\,000円（会場にてお支払いください）\n◆定員：150人 \n◆参加申込フォーム　参加受付中！\n下記の感染拡大防止のための【注意事項】にご同意のうえ、上記リンクの「参加申込フォーム」をご送信ください。\n◆Speaker:   小田 康之\, Vital Japan 代表 & 創設者 \n◆レベル: 中級以上　レベルの詳細 \n新年最初のVital English。残り少なくなった飯田橋でのリアルセッションです。 \nキャリア、スキル、趣味など、いかに向上してゆくか、多くの人と意見や情報を英語で交換し、英会話力を上げるとともに視野を広げましょう。 \n2023年を最高な一年とすべく、今年達成したいこと＆チャレンジしたいこと、英語力アップの方法を参加者でシェア。\n多彩な参加者とともに英語トーク力、ディスカッション力、そしてモチベーションをアップし、交流も楽しみましょう。 \n英語表現の解説、英語ディスカッション力を上げるテクニック等を挟みながら、参加者での4ラウンドのグループトーク。\nそれぞれでグループ替えをし、自己紹介からスタートしますので、沢山の人と知り合い、会話ができます。 \n英語でのトーク・ディスカッション力を上げたい方、意見・情報交換したい方、モチベーションを上げたい方、友人・知り合いを増やしたい方、ぜひどうぞ。 \nプレゼンは、小田が英語と日本語で行います。 \n【流れ】（予定）\n・英語ディスカッション力向上のためのテクニック、英語表現\n・Topic「今年達成したいこと＆チャレンジしたいことは？」\n・Group Conversation 1: 約4人グループで約20分\n・Group Conversation 2: 約4人グループで約20分\n[休憩] 5分間\n・英語ディスカッション力向上のためのテクニック、英語表現\n・Topic「今年英語力を上げるためにすることは？」\n・Group Conversation 3: 約4人グループで約20分\n・Group Conversation 4: 約4人グループで約20分 \n★【注意事項】\n・マスクを必ずご着用ください。\n・ご入場の際、１階入口または受付にて手指消毒剤で消毒お願いします。\n・当日体調不良や発熱の見られる方、感染者と濃厚接触した可能性のある方は、ご参加をご遠慮ください。\n・飲物コーナーは設けませんので、飲物が必要な方は各自ご準備ください。\n・政府・東京都からの要請や感染拡大状況の変化により、変更または中止となることもございます。 \n会場は全扉全開、換気扇5台で換気をする等、感染防止対策を強化していますが、ご参加者の皆さんも可能な限りワクチン接種する等、感染拡大防止にご協力よろしくお願いいたします。 \n  \n  \n 
URL:https://vitaljapan.com/event/2023-1-7-vital-english/
LOCATION:飯田橋 – Iidabashi (Tokyo Shigoto Center)\, 飯田橋3-10-3\, 千代田区\, Tokyo\, 102-0072\, Japan
CATEGORIES:Vital English - 英語勉強会
ATTACH;FMTTYPE=image/jpeg:https://vitaljapan.com/vj/wp-content/uploads/2017/11/ファイル-2017-11-16-11-36-57.jpeg
END:VEVENT
BEGIN:VEVENT
DTSTART;TZID=Asia/Tokyo:20230827T182000
DTEND;TZID=Asia/Tokyo:20230827T204000
DTSTAMP:20260426T104458
CREATED:20230806T024224Z
LAST-MODIFIED:20230806T024224Z
UID:3224-1693160400-1693168800@vitaljapan.com
SUMMARY:【受付中】8/27(日)Vital English-英語勉強会★リアル 「Let’s Meet & Talk：キャリアをアップ＆趣味を充実させよう！」◆英語ディスカッション
DESCRIPTION:Vital English – 英語勉強会 　 2023年8月27日(日) 6:20-8:40pm【リアル・オフライン開催】\n【ディスカッション編】※中級レベル以上\n◆テーマ 「Let’s Meet & Talk：キャリアをアップ＆趣味を充実させよう！」\n※参加申込フォームのURLはメルマガをご覧ください。\n\n\n\n◆日時： 2023年8月27日(日) 6:20-8:40pm \n◆場所：東京駅近く（詳細は参加予定者にご連絡します。） \n◆Speaker:小田 康之\, Vital Japan 代表 & 創設者 \n◆レベル: 中級以上　レベルの詳細 \n◆参加費：1\,500円 \n◆参加申込方法：メルマガにある参加申込フォームからお申し込みください。\n多彩な参加者で英語グループディスカッション。 \nキャリアアップするためには？ 仕事以外の趣味やアクティビティにはどのようなものがある？\nWork Life balanceをどうとる？など人生を充実させるための情報や意見を交換。 \n英会話力・ディスカッション力を向上しながら多くの人と出会いと交流を楽しみましょう！ \nスピーカーからもキャリアや趣味・アクティビティに関する情報、ディスカッションのための英語表現等をご紹介します。 \n英語表現の解説、英語ディスカッション力を上げるテクニック等を挟みながら、参加者6人グループでの4ラウンドのグループトーク。それぞれでグループ替えをし、自己紹介からスタートしますので、沢山の人と知り合い、会話ができます。 \n多彩な参加者とともに英語会話力、ディスカッション力、そしてモチベーションをアップし、交流も楽しみましょう。 \nプレゼンは、小田が日本語と英語を交えて行います。 \n【流れ】（予定）\n・英語ディスカッション力向上のためのテクニック、英語表現\n・Topic「キャリアをアップしてゆくための方法は？」\n・Group Conversation 1: 6人グループで約20分\n・Group Conversation 2: 6人グループで約20分\n[休憩] 5分間\n・英語ディスカッション力向上のためのテクニック、英語表現\n・Topic「人生を充実させる趣味やアクティビティは？」\n・Group Conversation 3: 6人グループで約20分\n・Group Conversation 4: 6人グループで約20分 \n\n\n\n飯田橋会場が改装工事中のため、200人規模のリアルの勉強会は休止中です。\n現在、100人弱の規模でのリアルの勉強会のみ開催していますが、定員が少ないため、Vital Englishメルマガのみで詳細と参加申込方法はお知らせしています。詳細はメルマガ（週1回程度配信）をご覧ください。\n\n\n\n\n\nVital Englishメルマガ 配信登録フォーム\nE-mailアドレスを入力し、「登録・subscribe」ボタンをお押し下さい。\n次のページの「希望メニュー」では「Vital English」を選択ください。\n\n\n\n 
URL:https://vitaljapan.com/event/2023-8-27-vital-english/
LOCATION:オンライン
CATEGORIES:Vital English - 英語勉強会
ATTACH;FMTTYPE=image/jpeg:https://vitaljapan.com/vj/wp-content/uploads/2017/11/ファイル-2017-11-16-11-36-57.jpeg
END:VEVENT
END:VCALENDAR