BEGIN:VCALENDAR
VERSION:2.0
PRODID:-//Vital Japan - ECPv6.11.2//NONSGML v1.0//EN
CALSCALE:GREGORIAN
METHOD:PUBLISH
X-ORIGINAL-URL:https://vitaljapan.com
X-WR-CALDESC:Vital Japan のイベント
REFRESH-INTERVAL;VALUE=DURATION:PT1H
X-Robots-Tag:noindex
X-PUBLISHED-TTL:PT1H
BEGIN:VTIMEZONE
TZID:Asia/Tokyo
BEGIN:STANDARD
TZOFFSETFROM:+0900
TZOFFSETTO:+0900
TZNAME:JST
DTSTART:20220101T000000
END:STANDARD
END:VTIMEZONE
BEGIN:VEVENT
DTSTART;TZID=Asia/Tokyo:20220305T190000
DTEND;TZID=Asia/Tokyo:20220305T213000
DTSTAMP:20260422T204706
CREATED:20220220T060451Z
LAST-MODIFIED:20220228T064431Z
UID:2675-1646506800-1646515800@vitaljapan.com
SUMMARY:【受付中】3/5(土)Vital English-英語勉強会【オンライン】★英語力向上の鍵シリーズ★ 「語彙力を鍛える！ボキャブラリー増強法 Part.1 」
DESCRIPTION:Vital English – 英語勉強会 　2022年3月5日(土) 7:00-9:30pm 【Zoom・オンライン】\n【特別編】 ※レベル不問（初級から上級までOK）\n★英語力向上の鍵 シリーズ★\n◆テーマ 「語彙力を鍛える！ボキャブラリー増強法 Part.1 」\n\n\n\n\n◆日時： 2022年3月5日(土) 7:00-9:30pm 　 終了後 オンライン懇親会 \n◆開催方法：Zoomミーティングを使用したオンライン \n◆定員：100人 \n◆参加費：1\,000円（PayPalまたは銀行振込）参加後、任意　●支払方法詳細 \n◆参加申込フォーム　参加受付中！\n\n◆Speaker:　小田 康之\, Vital Japan 代表 & 創設者 \n◆参加までの流れ、注意事項（初めての方は必ずご確認の上、お申し込みください。） \n\n\n\n★英語力向上の鍵 シリーズ ★とは　不定期開催\n英語力アップのコツをつかみ、英語をより深く知り、英語の運用能力も高めることを目指します。\nレクチャーに加え、参加者の1対1での気楽な英語トークを多数交えながらのインタラクティブな形式。\n英語レベル初級から上級の方までレベルを問わず参加可能です。オンラインでの開催。お気軽にご参加ください！\n\n\n\n英語力向上の鍵を探り、参加者での英会話も楽しんでゆく新シリーズ。\n第1回のテーマはボキャブラリーです。（ボキャブラリーについては次回Part 2も予定しています。） \n語学力の要となるのは、まずは語彙。質の高い英語を使えるようになるために、語彙の増強は必須です。 \nこのセッションでは、どのくらいの数の語彙が必要か、どのように語彙を増強するかを考えます。英語以外の言語を含めた語源、英語の言葉の関連や広がり、効果的な語彙の記憶法、どのような辞書をどのように活用すればよいのかなどもお伝えします。 \nレクチャーのみならず、参加者どうしでの英語での気軽な会話の時間も沢山設けますので多彩な参加者での英語での会話や交流も楽しみましょう。 \n英語力を上げたい方、英語を深く知りたい方、多くの人と英語で会話したい方、交流したい方、お気軽にご参加ください。 \nプレゼンは小田が日本語と英語を交えて行います。 \n【勉強会の流れ】（予定）\n7:00pm: Opening Talk\n7:10pm: *1 to 1 Self-Introduction (1対1) 3 分 x 2回\n7:20pm: Lecture\n7:30pm: *1 to 1 Conversation: (1対1) 4分\n7:35pm: Lecture\n7:45pm: *1 to 1 Conversation: (1対1) 4分\n7:50pm: Lecture\n8:00pm: *Group Discussion: (3人) 10 分\n8:10pm: Break 休憩 5分\n8:15pm: Lecture\n8:25pm: *1 to 1 Conversation: (1対1) 4分\n8:35pm: Lecture\n8:45pm: *1 to 1 Conversation: (1対1) 4分\n8:50pm: Lecture\n9:00pm: *Group Discussion: (3人) 10 分\n9:10pm: *1 to 1 Summary Talk: (1対1) 4分 x 2回\n9:25pm: Closing Talk\n9:30pm: End\n*が参加者のアクティビティ（1対1やグループにて英語で会話） \n  \n▼オンライン懇親会/Online Drinking Party (Optional)\n10:00pmより開催します。参加ご希望の方は、勉強会終了後そのままオンラインでいてください。\n5人程のグループ（Zoomのbreakout機能）で30分のラウンドを3回行います。（毎回顔ぶれを自動で変えます。） \n  \n◆参加までの流れ、注意事項 \n  \n  \n 
URL:https://vitaljapan.com/event/2022-3-5-vital-english/
LOCATION:オンライン
CATEGORIES:Vital English - 英語勉強会
ATTACH;FMTTYPE=image/jpeg:https://vitaljapan.com/vj/wp-content/uploads/2017/11/ファイル-2017-11-16-11-36-57.jpeg
END:VEVENT
BEGIN:VEVENT
DTSTART;TZID=Asia/Tokyo:20220312T080000
DTEND;TZID=Asia/Tokyo:20220312T170000
DTSTAMP:20260422T204706
CREATED:20220224T024636Z
LAST-MODIFIED:20220224T024636Z
UID:2682-1647072000-1647104400@vitaljapan.com
SUMMARY:【受付中】3/12(土)Vital English-英語勉強会◆「英語表現を豊かにする - 英語トーク力＆ディスカッション力強化！」◆ディスカッション編
DESCRIPTION:Vital English – 英語勉強会 　2022年3月12日(土) 7:00-9:30pm 【Zoom・オンライン】\n【ディスカッション編】 ※中級以上\n◆テーマ 「英語表現を豊かにする – 英語トーク力＆ディスカッション力強化！」\n\n\n\n\n◆日時： 2022年3月12日(土) 7:00-9:30pm 　 終了後 オンライン懇親会 \n◆開催方法：Zoomミーティングを使用したオンライン \n◆定員：100人 \n◆参加費：1\,000円（PayPalまたは銀行振込）参加後、任意　●支払方法詳細 \n◆参加申込フォーム　参加受付中！\n\n◆Speaker:　小田 康之\, Vital Japan 代表 & 創設者 \n◆参加までの流れ、注意事項（初めての方は必ずご確認の上、お申し込みください。） \nオンラインで開催するディスカッション編。\n今回は、特に英語表現のバリエーションを増やし、会話やディスカッション力を強化しましょう。 \n英語表現の解説、ディスカッション力を上げるテクニック等の解説を挟みながら、4ラウンドのグループトーク。それぞれでグループ替えをし、自己紹介からスタートしますので、沢山の人と知り合い、会話ができます。 \n会話するトピックは、「今、熱くなっていること」、 「英語力向上のために取り組んでいること/取り組みたいこと」。多彩な参加者とともに英語トーク力、ディスカッション力、そしてモチベーションをアップし、交流も存分に楽しみましょう。 \n英語でのディスカッション能力を上げたい方、意見・情報交換したい方、友人・知り合いを増やしたい方、ぜひどうぞ。 \nプレゼンは、小田が英語と日本語を交えて行います。 \n【流れ】（予定）\n・英語ディスカッション力向上のためのテクニック、英語表現\n・Topic 「今、熱くなっていること」\n・Group Conversation 1: 約4人グループで約20分\n・Group Conversation 2: 約4人グループで約20分\n[休憩] 5分間\n・英語ディスカッション力向上のためのテクニック、英語表現\n・Topic 「英語力向上のために取り組んでいること/取り組みたいこと」\n・Group Conversation 3: 約4人グループで約20分\n・Group Conversation 4: 約4人グループで約20分 \n▼オンライン懇親会/Online Drinking Party (Optional)\n10:00pmより開催します。参加ご希望の方は、勉強会終了後そのままオンラインでいてください。\n5人程のグループ（Zoomのbreakout機能）で30分のラウンドを3回行います。（毎回顔ぶれを自動で変えます。） \n  \n◆参加までの流れ、注意事項 \n  \n  \n 
URL:https://vitaljapan.com/event/2022-03-12-vital-english/
LOCATION:オンライン
CATEGORIES:Vital English - 英語勉強会
ATTACH;FMTTYPE=image/jpeg:https://vitaljapan.com/vj/wp-content/uploads/2020/01/VitalJapan20190217_7.jpg
END:VEVENT
BEGIN:VEVENT
DTSTART;TZID=Asia/Tokyo:20220321T180000
DTEND;TZID=Asia/Tokyo:20220321T203000
DTSTAMP:20260422T204706
CREATED:20220306T075521Z
LAST-MODIFIED:20220310T033415Z
UID:2691-1647885600-1647894600@vitaljapan.com
SUMMARY:【受付中】3/21(月・祝) Vital English-英語勉強会 【オンライン】「社交の達人になる英語コミュニケーション力 - 春は新たな出会い！」
DESCRIPTION:まん延防止措置が延長となったため、飯田橋オフラインではなく、オンラインでの開催とさせていただきます。\n\nVital English – 英語勉強会 　2022年3月21日(月・祝) 6:00-8:30pm 【Zoom・オンライン】\n【コミュニケーション編】 ※中級レベル\n◆テーマ「社交の達人になる英語コミュニケーション力 – 春は新たな出会い！」\n\n\n\n\n◆日時：2022年3月21日(月・祝) 6:00-8:30pm 　 終了後 オンライン懇親会 \n◆開催方法：Zoomミーティングを使用したオンライン \n◆定員：100人 \n◆参加費：1\,000円（PayPalまたは銀行振込）参加後、任意　●支払方法詳細 \n◆参加申込フォーム　参加受付中！\n\n◆Speakers:\nKing Chu\, Finance & I.T. Professional（American from Hawaii)\n小田 康之\, Vital Japan 代表 & 創設者 \n◆参加までの流れ、注意事項（初めての方は必ずご確認の上、お申し込みください。） \n祝日にオンラインで開催するセッション。 \n春もそこまで来ています。コロナも落ち着きを見せてきており、多くの人との新たな出会いや社交も楽しみになってきました。 \nこのセッションでは、コロナの中で変化した言語・非言語のコミュニケーション、好感度を高める社交のための英語表現やコミュニケーション法をご紹介します。\nネイティブらしい英語表現や対話のテクニックを学び、沢山会話しましょう。 \n英語でたくさん会話をしたい方、友人・知り合いを増やしたい方にお薦めのセッション。\nどうすれば誰とでも気軽に打ち解けられるか、相手と良い関係が作れるか、その英語表現とその技法を取りあげます。\n初めての方もいつも参加されている方も、英語コミュニケーション力にますます磨きを掛けましょう。 \n通常の勉強会同様、レクチャーのみならず、1対1やグループでの会話やトレーニングのアクティビティを沢山盛り込みながらのインタラクティブな形式です。\nプレゼンは主にKingが英語で行い、小田が日本語と英語で進行と補足説明をします。 \n【勉強会の流れ】（予定）\n6:00pm: Opening Talk\n6:10pm: *1 to 1 Self-Introduction (1対1 or 3人) 3 分 x 2回\n6:20pm: Lecture\n6:30pm: *1 to 1 Conversation: (1対1 or 3人) 4分\n6:35pm: Lecture\n6:40pm: *Dialogue #1 Role-Play: (1対1 or 3人)\n6:55pm: Lecture\n7:00pm: *Group Conversation: (4人)\n7:10pm: Break 休憩 5分\n7:15pm: Lecture\n7:25pm:*1 to 1 Conversation: (1対1 or 3人) 4分\n7:30pm: Lecture\n7:35pm: *Dialogue #2 Role-Play: (1対1 or 3人)\n7:50pm: Lecture\n8:00pm: *1 to 1 Conversation: (1対1 or 3人) 4分\n8:05pm *Group Conversation: (4人)\n8:15pm: *1 to 1 Summary Talk: (1対1 or 3人) 4分 x 2回\n8:25pm: Closing Talk\n8:30pm: End\n*が参加者のアクティビティ（1対1やグループでの会話、トレーニング） \n▼オンライン懇親会/Online Drinking Party (Optional) \n9:00pmより開催します。参加ご希望の方は、勉強会終了後そのままオンラインでいてください。\n5人程のグループ（Zoomのbreakout機能）で30分のラウンドを3回行います。（毎回顔ぶれを自動で変えます。）\nお好きな時に自由にご退出ください。メッセージを個別にやり取りしたい場合はチャット機能でやり取りください。 \n  \n 
URL:https://vitaljapan.com/event/2022-3-21-vital-english/
LOCATION:オンライン
CATEGORIES:Vital English - 英語勉強会
ATTACH;FMTTYPE=image/jpeg:https://vitaljapan.com/vj/wp-content/uploads/2021/04/201612VitalEnglish3.jpg
END:VEVENT
BEGIN:VEVENT
DTSTART;TZID=Asia/Tokyo:20220326T190000
DTEND;TZID=Asia/Tokyo:20220326T213000
DTSTAMP:20260422T204706
CREATED:20220306T074840Z
LAST-MODIFIED:20220306T074840Z
UID:2689-1648321200-1648330200@vitaljapan.com
SUMMARY:【受付中】3/26(土)Vital English-英語勉強会【オンライン】★Global Insight シリーズ - 世界の今を理解するために★  「Overview ２. 国際関係・歴史をどう見るか - 国際秩序、ウクライナetc」
DESCRIPTION:Vital English – 英語勉強会 　2022年3月26日(土) 7:00-9:30pm 【Zoom・オンライン】\n【特別編】 ※中級レベル以上\n★Global Insight シリーズ – 世界の今を理解するために★\n◆テーマ 「Overview ２. 国際関係・歴史をどう見るか – 国際秩序、ウクライナetc」\n\n\n\n\n◆日時： 2022年3月26日(土) 7:00-9:30pm　 終了後、オンライン懇親会 \n◆開催方法：Zoomミーティングを使用したオンライン \n◆定員：100人 \n◆参加費：1\,000円（PayPalまたは銀行振込）参加後、任意　●支払方法詳細 \n◆参加申込フォーム　参加受付中！\n\n◆Speaker:　小田 康之\, Vital Japan 代表 & 創設者 \n◆参加までの流れ、注意事項（初めての方は必ずご確認の上、お申し込みください。） \n\n\n\n★「Global Insight シリーズ」とは★ 月１回程度オンラインで開催\n世界の今をより深く理解するために、世界の様々な国や地域を掘り下げます。\n歴史、民族、言語、宗教、政治、経済等をどうとらえるか、基本情報を英語でどう表現するか、今起きている世界情勢と関連づけながら概観してゆきます。\nレクチャーのみならず、1対1やグループでの英語での自由な会話を織り交ぜながらのセッション。\n英語レベル中級以上で、世界のニュースをより深く理解したい方、多彩な人と会話・交流したい方、お気軽にご参加ください！\n\n\n\nこの「Global Insight シリーズ」では、世界の今をより深く理解するために、世界の様々な国や地域を掘り下げてゆきます。 \nシリーズの第２回目は、前回に続き、個別の国や地域に入る前のOverviewとして、世界の成り立ちを考えます。 \n今回は、国際関係や世界史の代表的な理論、捉えるための枠組みを概観し、現在進行中のウクライナ戦争、国際秩序の激動についても考えます。 \n世界で今起きているニュースをより深く理解するためには、それぞれの国や地域の歴史的な成り立ちを知ることが重要です。また、起きている事象をどう捉えるかという分析のための理論的な視座も必要。 \n前回は、民族、言語、宗教などについて扱いましたが、今回は、世界を分析的にみるために必要な国際関係や歴史学の代表的な理論をご紹介。同時に、現在進行中の事象についても歴史的視野から考えてみたいと思います。 \nレクチャーのみならず、参加者での自由な英語での会話を多数交えながら、和気あいあいと進めますのでお気軽にご参加ください。 \nレクチャーは主に日本語で行いますが、英語での表現方法、英語資料をご紹介。\n参加者による１対１やグループの英語で会話を交えながら進行します。 \n【勉強会の流れ】（予定）\n7:00pm: Opening Talk\n7:10pm: *1 to 1 Self-Introduction (1対1 or 3人) 3 分 x 2回\n7:20pm: Lecture\n7:30pm: *1 to 1 Conversation: (1対1) 4分\n7:35pm: Lecture\n7:50pm: *Group Conversation: (3人) 8 分\n8:00pm: Lecture\n8:10pm: *Group Conversation: (3人) 8 分\n8:20pm: Break 休憩 5分\n8:25pm: Lecture\n8:35pm: *1 to 1 Conversation: (1対1) 4分\n8:40pm: Lecture\n8:55pm: *Group Conversation: (3人) 8 分\n9:05pm: Lecture\n9:15pm: *1 to 1 Summary Talk: (1対1 or 3人) 4分 x 2回\n9:25pm: Closing Talk\n9:30pm: End\n*が参加者のアクティビティ（1対1やグループでの英語による会話） \n  \n▼オンライン懇親会/Online Drinking Party (Optional)\n10:00pmより開催します。参加ご希望の方は、勉強会終了後そのままオンラインでいてください。\n5人程のグループ（Zoomのbreakout機能）で30分のラウンドを3回行います。（毎回顔ぶれを自動で変えます。） \n▼シーリーズ予定（月１回程度オンラインで開催）\n・2/20(日)終了 第１回 Overview 1. 世界の成り立ちを理解するための鍵：民族、言語、宗教\n・3/26(土)開催 第２回 Overview 2. 国際関係・歴史をどう見るか ー 国際秩序、ウクライナetc\n・4月予定　 第３回 Americas – 南北アメリカ大陸の歴史的成り立ち\n※第４回以降は追ってお知らせいたします。 \n◆参加までの流れ、注意事項 \n  \n  \n 
URL:https://vitaljapan.com/event/2022-3-26-vital-english/
LOCATION:オンライン
CATEGORIES:Vital English - 英語勉強会
ATTACH;FMTTYPE=image/jpeg:https://vitaljapan.com/vj/wp-content/uploads/2020/01/Discussion.jpg
END:VEVENT
END:VCALENDAR