BEGIN:VCALENDAR
VERSION:2.0
PRODID:-//Vital Japan - ECPv6.11.2//NONSGML v1.0//EN
CALSCALE:GREGORIAN
METHOD:PUBLISH
X-ORIGINAL-URL:https://vitaljapan.com
X-WR-CALDESC:Vital Japan のイベント
REFRESH-INTERVAL;VALUE=DURATION:PT1H
X-Robots-Tag:noindex
X-PUBLISHED-TTL:PT1H
BEGIN:VTIMEZONE
TZID:Asia/Tokyo
BEGIN:STANDARD
TZOFFSETFROM:+0900
TZOFFSETTO:+0900
TZNAME:JST
DTSTART:20220101T000000
END:STANDARD
END:VTIMEZONE
BEGIN:VEVENT
DTSTART;TZID=Asia/Tokyo:20220604T190000
DTEND;TZID=Asia/Tokyo:20220604T213000
DTSTAMP:20260421T201529
CREATED:20220516T071456Z
LAST-MODIFIED:20220601T091553Z
UID:2756-1654369200-1654378200@vitaljapan.com
SUMMARY:【受付中】6/4(土) Vital English-英語勉強会【オンライン】★英語力向上の鍵シリーズ★「発音を改善しよう！ 発音総まとめ＆子音 - 難しい英語子音を克服、発音総仕上げ！」
DESCRIPTION:Vital English – 英語勉強会 　 2022年6月4日(土) 7:00-9:30pm【Zoom・オンライン】\n【特別編】 ※レベル不問（初級から上級までOK）\n★英語力向上の鍵 シリーズ★\n◆テーマ 「発音を改善しよう！ 発音総まとめ＆子音 – 難しい英語子音を克服、発音総仕上げ！」\n\n\n\n\n◆日時： 2022年6月4日(土) 7:00-9:30pm 　終了後、オンライン懇親会 \n◆開催方法：Zoomミーティングを使用したオンライン \n◆定員：100人 \n◆英語レベル：不問。英語での自己紹介や簡単な会話ができればどなたでもご参加可能です。 \n◆参加費：1\,000円（PayPalまたは銀行振込）参加後、任意　●支払方法詳細 \n◆参加申込フォーム　参加受付中！\n\n◆Speaker:　小田 康之\, Vital Japan 代表 & 創設者 \n◆参加までの流れ、注意事項（初めての方は必ずご確認の上、お申し込みください。） \n\n\n\n★英語力向上の鍵 シリーズ ★とは\n英語力アップのコツをつかみ、英語をより深く知り、英語の運用能力も高めることを目指します。\nレクチャーに加え、参加者の1対1での気楽な英語トークを多数交えながらのインタラクティブな形式。不定期に開催します。\n英語レベル初級から上級の方までレベルを問わず参加可能です。オンラインでの開催。お気軽にご参加ください！\n\n\n\n英語力向上の鍵を探り、参加者での英会話も楽しんでゆくシリーズ。\n第４回のテーマは英語の発音改善、前回の母音に続き、今回は子音に焦点を当てます。\nこれまで取り上げた、母音、リズムについてもリビューしますので、これまで参加できなかった方も、発音改善の総仕上げとしましょう。 \n発音への感度を高めることは、コミュニケーションの手段としての英語には非常に重要です。\n自らの思いを相手に理解してもらい、心を動かすことは、発音の正確さに大きく左右されます。 \n日本語よりも音（音素）の数が多い英語を正しく発音することは、日本語を母語とする人には難関。\n英語には、日本語と異なる子音が盛りだくさん。また、日本語ネイティブは無意識にしている音の脱落や変化なども外国語の発音の妨げになります。 \nこのセッションでは、英語と日本語の子音の違いを理解し、正確に英語の子音を発音するにはどうすれば良いか、実践してゆきます。\n前回の母音やリズムに関するセッションを受けて、それらも振り返りながら「発音の総仕上げ」をしましょう！ \nレクチャーのみならず、参加者どうしでの英語での気軽な会話の時間も沢山設けますので、多彩な参加者での英語での会話や交流も楽しみましょう。 \n英語力を上げたい方、英語を深く知りたい方、多くの人と英語で会話したい方、交流したい方、お気軽にご参加ください。\nプレゼンは小田が日本語と英語を交えて行います。 \n【勉強会の流れ】（予定）\n7:00pm: Opening Talk\n7:10pm: *1 to 1 Self-Introduction (1対1) 3 分 x 2回\n7:20pm: Lecture\n7:30pm: *1 to 1 Conversation: (1対1) 4分\n7:35pm: Lecture\n7:45pm: *1 to 1 Conversation: (1対1) 4分\n7:50pm: Lecture\n8:00pm: *Group Discussion: (3人) 10 分\n8:10pm: Break 休憩 5分\n8:15pm: Lecture\n8:25pm: *1 to 1 Conversation: (1対1) 4分\n8:35pm: Lecture\n8:45pm: *1 to 1 Conversation: (1対1) 4分\n8:50pm: Lecture\n9:00pm: *Group Discussion: (3人) 10 分\n9:10pm: *1 to 1 Summary Talk: (1対1) 4分 x 2回\n9:25pm: Closing Talk\n9:30pm: End\n*が参加者のアクティビティ（1対1やグループにて英語で会話） \n▼オンライン懇親会/Online Drinking Party (Optional)\n10:00pmより開催します。参加ご希望の方は、勉強会終了後そのままオンラインでいてください。\n5人程のグループ（Zoomのbreakout機能）で30分のラウンドを3回行います。（毎回顔ぶれを自動で変えます。） \n  \n◆参加までの流れ、注意事項 \n  \n  \n 
URL:https://vitaljapan.com/event/2022-6-4-vital-english/
LOCATION:オンライン
CATEGORIES:Vital English - 英語勉強会
ATTACH;FMTTYPE=image/jpeg:https://vitaljapan.com/vj/wp-content/uploads/2018/12/CNN_Vital_top.jpg
END:VEVENT
END:VCALENDAR